BEGIN:VCALENDAR
VERSION:2.0
PRODID:-//Cruelty Free You + Me - ECPv6.15.20//NONSGML v1.0//EN
CALSCALE:GREGORIAN
METHOD:PUBLISH
X-ORIGINAL-URL:https://crueltyfreeyouandme.org
X-WR-CALDESC:Events for Cruelty Free You + Me
REFRESH-INTERVAL;VALUE=DURATION:PT1H
X-Robots-Tag:noindex
X-PUBLISHED-TTL:PT1H
BEGIN:VTIMEZONE
TZID:America/Chicago
BEGIN:DAYLIGHT
TZOFFSETFROM:-0600
TZOFFSETTO:-0500
TZNAME:CDT
DTSTART:20240310T080000
END:DAYLIGHT
BEGIN:STANDARD
TZOFFSETFROM:-0500
TZOFFSETTO:-0600
TZNAME:CST
DTSTART:20241103T070000
END:STANDARD
BEGIN:DAYLIGHT
TZOFFSETFROM:-0600
TZOFFSETTO:-0500
TZNAME:CDT
DTSTART:20250309T080000
END:DAYLIGHT
BEGIN:STANDARD
TZOFFSETFROM:-0500
TZOFFSETTO:-0600
TZNAME:CST
DTSTART:20251102T070000
END:STANDARD
BEGIN:DAYLIGHT
TZOFFSETFROM:-0600
TZOFFSETTO:-0500
TZNAME:CDT
DTSTART:20260308T080000
END:DAYLIGHT
BEGIN:STANDARD
TZOFFSETFROM:-0500
TZOFFSETTO:-0600
TZNAME:CST
DTSTART:20261101T070000
END:STANDARD
END:VTIMEZONE
BEGIN:VEVENT
DTSTART;TZID=America/Chicago:20251207T093000
DTEND;TZID=America/Chicago:20251207T103000
DTSTAMP:20260425T232230
CREATED:20251126T163312Z
LAST-MODIFIED:20251126T163312Z
UID:3310-1765099800-1765103400@crueltyfreeyouandme.org
SUMMARY:Story Time at The Robey
DESCRIPTION:Join us for our Compassionate Children’s Programming at the The Robey every Sunday at 9:30am on the 2nd floor. We love being at this space during the off-season from WPFM. The theme is new each week and rotates between animals\, the environment\, and being kind to one another. Each session offers a community greeting\, two stories\, an art project\, and packaged vegan snacks. When we are indoors\, we also do bonus activities like our famous Scavenger Hunt! Sessions are donation-based. 100% of your donation goes back into programming in Wicker Park!
URL:https://crueltyfreeyouandme.org/event-schedule/story-time-at-the-robey-76/
LOCATION:The Robey\, 2018 W. North Ave.\, Chicago\, IL\, 60647
END:VEVENT
BEGIN:VEVENT
DTSTART;TZID=America/Chicago:20251207T100000
DTEND;TZID=America/Chicago:20251207T120000
DTSTAMP:20260425T232230
CREATED:20251126T163956Z
LAST-MODIFIED:20251126T163956Z
UID:3319-1765101600-1765108800@crueltyfreeyouandme.org
SUMMARY:Kid's Corner at WPFM
DESCRIPTION:We are thrilled to be joining the Indoor Wicker Park Farmers Market this year! We will be running their Kid’s Corner from 10am to noon every time they bring their market indoors to the Royal Palms Shuffleboard. We will have four large booths where we will have coloring and crafts. We are also bringing our famous Scavenger Hunt! Each week features a new theme!! Join us at The Robey for our structured Story Time then walk down to Royal Palms for some more fun!
URL:https://crueltyfreeyouandme.org/event-schedule/kids-corner-at-wpfm/
LOCATION:Royal Palms\, 1750 N Milwaukee Ave\, Chicago\, IL
END:VEVENT
END:VCALENDAR