BEGIN:VCALENDAR
VERSION:2.0
PRODID:-//Cruelty Free You + Me - ECPv6.15.20//NONSGML v1.0//EN
CALSCALE:GREGORIAN
METHOD:PUBLISH
X-WR-CALNAME:Cruelty Free You + Me
X-ORIGINAL-URL:https://crueltyfreeyouandme.org
X-WR-CALDESC:Events for Cruelty Free You + Me
REFRESH-INTERVAL;VALUE=DURATION:PT1H
X-Robots-Tag:noindex
X-PUBLISHED-TTL:PT1H
BEGIN:VTIMEZONE
TZID:America/Chicago
BEGIN:DAYLIGHT
TZOFFSETFROM:-0600
TZOFFSETTO:-0500
TZNAME:CDT
DTSTART:20240310T080000
END:DAYLIGHT
BEGIN:STANDARD
TZOFFSETFROM:-0500
TZOFFSETTO:-0600
TZNAME:CST
DTSTART:20241103T070000
END:STANDARD
BEGIN:DAYLIGHT
TZOFFSETFROM:-0600
TZOFFSETTO:-0500
TZNAME:CDT
DTSTART:20250309T080000
END:DAYLIGHT
BEGIN:STANDARD
TZOFFSETFROM:-0500
TZOFFSETTO:-0600
TZNAME:CST
DTSTART:20251102T070000
END:STANDARD
BEGIN:DAYLIGHT
TZOFFSETFROM:-0600
TZOFFSETTO:-0500
TZNAME:CDT
DTSTART:20260308T080000
END:DAYLIGHT
BEGIN:STANDARD
TZOFFSETFROM:-0500
TZOFFSETTO:-0600
TZNAME:CST
DTSTART:20261101T070000
END:STANDARD
END:VTIMEZONE
BEGIN:VEVENT
DTSTART;TZID=America/Chicago:20251211T110000
DTEND;TZID=America/Chicago:20251211T120000
DTSTAMP:20260425T232158
CREATED:20251126T164556Z
LAST-MODIFIED:20251126T164556Z
UID:3340-1765450800-1765454400@crueltyfreeyouandme.org
SUMMARY:Story Time in Bucktown-WP
DESCRIPTION:Join us for Story Time at the Bucktown-Wicker Park Library Branch at 11am on the 2nd floor!
URL:https://crueltyfreeyouandme.org/event-schedule/story-time-in-bucktown-wp-13/
LOCATION:Chicago Public Library Bucktown Wicker-Park Branch\, 1701 N. Milwaukee Ave\, Chicago\, IL\, 60647
END:VEVENT
END:VCALENDAR