BEGIN:VCALENDAR
VERSION:2.0
PRODID:-//Cruelty Free You + Me - ECPv6.15.20//NONSGML v1.0//EN
CALSCALE:GREGORIAN
METHOD:PUBLISH
X-ORIGINAL-URL:https://crueltyfreeyouandme.org
X-WR-CALDESC:Events for Cruelty Free You + Me
REFRESH-INTERVAL;VALUE=DURATION:PT1H
X-Robots-Tag:noindex
X-PUBLISHED-TTL:PT1H
BEGIN:VTIMEZONE
TZID:America/Chicago
BEGIN:DAYLIGHT
TZOFFSETFROM:-0600
TZOFFSETTO:-0500
TZNAME:CDT
DTSTART:20250309T080000
END:DAYLIGHT
BEGIN:STANDARD
TZOFFSETFROM:-0500
TZOFFSETTO:-0600
TZNAME:CST
DTSTART:20251102T070000
END:STANDARD
BEGIN:DAYLIGHT
TZOFFSETFROM:-0600
TZOFFSETTO:-0500
TZNAME:CDT
DTSTART:20260308T080000
END:DAYLIGHT
BEGIN:STANDARD
TZOFFSETFROM:-0500
TZOFFSETTO:-0600
TZNAME:CST
DTSTART:20261101T070000
END:STANDARD
BEGIN:DAYLIGHT
TZOFFSETFROM:-0600
TZOFFSETTO:-0500
TZNAME:CDT
DTSTART:20270314T080000
END:DAYLIGHT
BEGIN:STANDARD
TZOFFSETFROM:-0500
TZOFFSETTO:-0600
TZNAME:CST
DTSTART:20271107T070000
END:STANDARD
END:VTIMEZONE
BEGIN:VEVENT
DTSTART;TZID=America/Chicago:20260328T110000
DTEND;TZID=America/Chicago:20260328T150000
DTSTAMP:20260425T183910
CREATED:20260225T014947Z
LAST-MODIFIED:20260225T014947Z
UID:3447-1774695600-1774710000@crueltyfreeyouandme.org
SUMMARY:Vegan in the Burbs Market
DESCRIPTION:Join us on Saturday\, March 28th at Mikerphone Brewing for our Vegan in the Burbs Market! We will be there 11am to 3pm and are so excited to bring our market to this fantastic brewery. \nLineup coming soon!
URL:https://crueltyfreeyouandme.org/event-schedule/vegan-in-the-burbs-market-30/
LOCATION:Mikerphone Brewing\, 121 Garlisch Dr.\, Elk Grove\, 60007\, United States
END:VEVENT
END:VCALENDAR