BEGIN:VCALENDAR
VERSION:2.0
PRODID:-//Cruelty Free You + Me - ECPv6.15.20//NONSGML v1.0//EN
CALSCALE:GREGORIAN
METHOD:PUBLISH
X-WR-CALNAME:Cruelty Free You + Me
X-ORIGINAL-URL:https://crueltyfreeyouandme.org
X-WR-CALDESC:Events for Cruelty Free You + Me
REFRESH-INTERVAL;VALUE=DURATION:PT1H
X-Robots-Tag:noindex
X-PUBLISHED-TTL:PT1H
BEGIN:VTIMEZONE
TZID:America/Chicago
BEGIN:DAYLIGHT
TZOFFSETFROM:-0600
TZOFFSETTO:-0500
TZNAME:CDT
DTSTART:20250309T080000
END:DAYLIGHT
BEGIN:STANDARD
TZOFFSETFROM:-0500
TZOFFSETTO:-0600
TZNAME:CST
DTSTART:20251102T070000
END:STANDARD
BEGIN:DAYLIGHT
TZOFFSETFROM:-0600
TZOFFSETTO:-0500
TZNAME:CDT
DTSTART:20260308T080000
END:DAYLIGHT
BEGIN:STANDARD
TZOFFSETFROM:-0500
TZOFFSETTO:-0600
TZNAME:CST
DTSTART:20261101T070000
END:STANDARD
BEGIN:DAYLIGHT
TZOFFSETFROM:-0600
TZOFFSETTO:-0500
TZNAME:CDT
DTSTART:20270314T080000
END:DAYLIGHT
BEGIN:STANDARD
TZOFFSETFROM:-0500
TZOFFSETTO:-0600
TZNAME:CST
DTSTART:20271107T070000
END:STANDARD
END:VTIMEZONE
BEGIN:VEVENT
DTSTART;TZID=America/Chicago:20260510T090000
DTEND;TZID=America/Chicago:20260510T100000
DTSTAMP:20260425T183747
CREATED:20260330T151153Z
LAST-MODIFIED:20260330T151153Z
UID:3525-1778403600-1778407200@crueltyfreeyouandme.org
SUMMARY:Story Time at WPFM
DESCRIPTION:Join us for our Compassionate Children’s Programming at the Wicker Park Farmers Market every Sunday! We have two sessions: 9am and 10am! Each session is the same lesson. The theme is new each week and rotates between animals\, the environment\, and being kind to one another. Sessions are donation-based. 100% of your donation goes back into programming in Wicker Park! We are located near the corner of Damen and Schiller in the grassy area under trees.
URL:https://crueltyfreeyouandme.org/event-schedule/story-time-at-wpfm-55/
LOCATION:Wicker Park Farmers Market
END:VEVENT
BEGIN:VEVENT
DTSTART;TZID=America/Chicago:20260510T100000
DTEND;TZID=America/Chicago:20260510T110000
DTSTAMP:20260425T183747
CREATED:20260330T151212Z
LAST-MODIFIED:20260330T151212Z
UID:3527-1778407200-1778410800@crueltyfreeyouandme.org
SUMMARY:Story Time at WPFM
DESCRIPTION:Join us for our Compassionate Children’s Programming at the Wicker Park Farmers Market every Sunday! We have two sessions: 9am and 10am! Each session is the same lesson. The theme is new each week and rotates between animals\, the environment\, and being kind to one another. Sessions are donation-based. 100% of your donation goes back into programming in Wicker Park! We are located near the corner of Damen and Schiller in the grassy area under trees.
URL:https://crueltyfreeyouandme.org/event-schedule/story-time-at-wpfm-56/
LOCATION:Wicker Park Farmers Market
END:VEVENT
END:VCALENDAR