BEGIN:VCALENDAR
VERSION:2.0
PRODID:-//Cruelty Free You + Me - ECPv6.15.20//NONSGML v1.0//EN
CALSCALE:GREGORIAN
METHOD:PUBLISH
X-ORIGINAL-URL:https://crueltyfreeyouandme.org
X-WR-CALDESC:Events for Cruelty Free You + Me
REFRESH-INTERVAL;VALUE=DURATION:PT1H
X-Robots-Tag:noindex
X-PUBLISHED-TTL:PT1H
BEGIN:VTIMEZONE
TZID:America/Chicago
BEGIN:DAYLIGHT
TZOFFSETFROM:-0600
TZOFFSETTO:-0500
TZNAME:CDT
DTSTART:20250309T080000
END:DAYLIGHT
BEGIN:STANDARD
TZOFFSETFROM:-0500
TZOFFSETTO:-0600
TZNAME:CST
DTSTART:20251102T070000
END:STANDARD
BEGIN:DAYLIGHT
TZOFFSETFROM:-0600
TZOFFSETTO:-0500
TZNAME:CDT
DTSTART:20260308T080000
END:DAYLIGHT
BEGIN:STANDARD
TZOFFSETFROM:-0500
TZOFFSETTO:-0600
TZNAME:CST
DTSTART:20261101T070000
END:STANDARD
BEGIN:DAYLIGHT
TZOFFSETFROM:-0600
TZOFFSETTO:-0500
TZNAME:CDT
DTSTART:20270314T080000
END:DAYLIGHT
BEGIN:STANDARD
TZOFFSETFROM:-0500
TZOFFSETTO:-0600
TZNAME:CST
DTSTART:20271107T070000
END:STANDARD
END:VTIMEZONE
BEGIN:VEVENT
DTSTART;TZID=America/Chicago:20260718T120000
DTEND;TZID=America/Chicago:20260718T160000
DTSTAMP:20260426T014822
CREATED:20260305T154131Z
LAST-MODIFIED:20260305T154131Z
UID:3493-1784376000-1784390400@crueltyfreeyouandme.org
SUMMARY:Vegan in the Burbs Market
DESCRIPTION:Join us for our Vegan in the Burbs Market at Soundgrowler Brewing Co on Saturday\, July 18th between noon and 4pm. \nVendor lineup coming soon…
URL:https://crueltyfreeyouandme.org/event-schedule/vegan-in-the-burbs-market-34/
LOCATION:Soundgrowler\, 8201 183rd St Suite P\, Tinley Park\, IL\, 60487\, United States
END:VEVENT
BEGIN:VEVENT
DTSTART;TZID=America/Chicago:20260816T120000
DTEND;TZID=America/Chicago:20260816T150000
DTSTAMP:20260426T014822
CREATED:20260305T154241Z
LAST-MODIFIED:20260305T154241Z
UID:3495-1786881600-1786892400@crueltyfreeyouandme.org
SUMMARY:Vegan in the Burbs Market
DESCRIPTION:Join us for our Vegan in the Burbs Market at Solemn Oath Brewery in Naperville on Sunday\, August 16th between noon and 3pm. \nVendor lineup coming soon…
URL:https://crueltyfreeyouandme.org/event-schedule/vegan-in-the-burbs-market-35/
LOCATION:Solemn Oath Brewery\, 1661 Quincy Ave Ste. 179\, Naperville\, IL\, 60540\, United States
END:VEVENT
END:VCALENDAR