BEGIN:VCALENDAR
VERSION:2.0
PRODID:-//Cruelty Free You + Me - ECPv6.15.20//NONSGML v1.0//EN
CALSCALE:GREGORIAN
METHOD:PUBLISH
X-WR-CALNAME:Cruelty Free You + Me
X-ORIGINAL-URL:https://crueltyfreeyouandme.org
X-WR-CALDESC:Events for Cruelty Free You + Me
REFRESH-INTERVAL;VALUE=DURATION:PT1H
X-Robots-Tag:noindex
X-PUBLISHED-TTL:PT1H
BEGIN:VTIMEZONE
TZID:America/Chicago
BEGIN:DAYLIGHT
TZOFFSETFROM:-0600
TZOFFSETTO:-0500
TZNAME:CDT
DTSTART:20250309T080000
END:DAYLIGHT
BEGIN:STANDARD
TZOFFSETFROM:-0500
TZOFFSETTO:-0600
TZNAME:CST
DTSTART:20251102T070000
END:STANDARD
BEGIN:DAYLIGHT
TZOFFSETFROM:-0600
TZOFFSETTO:-0500
TZNAME:CDT
DTSTART:20260308T080000
END:DAYLIGHT
BEGIN:STANDARD
TZOFFSETFROM:-0500
TZOFFSETTO:-0600
TZNAME:CST
DTSTART:20261101T070000
END:STANDARD
BEGIN:DAYLIGHT
TZOFFSETFROM:-0600
TZOFFSETTO:-0500
TZNAME:CDT
DTSTART:20270314T080000
END:DAYLIGHT
BEGIN:STANDARD
TZOFFSETFROM:-0500
TZOFFSETTO:-0600
TZNAME:CST
DTSTART:20271107T070000
END:STANDARD
END:VTIMEZONE
BEGIN:VEVENT
DTSTART;TZID=America/Chicago:20260126T110000
DTEND;TZID=America/Chicago:20260126T120000
DTSTAMP:20260426T005020
CREATED:20251229T162810Z
LAST-MODIFIED:20251229T162810Z
UID:3368-1769425200-1769428800@crueltyfreeyouandme.org
SUMMARY:Story Time in Bridgeport
DESCRIPTION:Join us for our Compassionate Children’s Programming at the Richard J. Daley Branch: Chicago Public Library. Sessions will begin at 11am. Each hour session includes two stories\, an art project\, music\, and vegan snacks to bring home. Located in their meeting room.
URL:https://crueltyfreeyouandme.org/event-schedule/story-time-in-bridgeport-111/
LOCATION:Bridgeport Daley Library\, 3400 S Halsted St\, Chicago\, IL\, 60608
END:VEVENT
BEGIN:VEVENT
DTSTART;TZID=America/Chicago:20260127T110000
DTEND;TZID=America/Chicago:20260127T120000
DTSTAMP:20260426T005020
CREATED:20251229T162615Z
LAST-MODIFIED:20251229T162615Z
UID:3362-1769511600-1769515200@crueltyfreeyouandme.org
SUMMARY:Story Time in Austin-Irving
DESCRIPTION:Join us for our Compassionate Children’s Programming at the Austin-Irving: Chicago Public Library. Sessions will begin at 11am. Each hour session includes two stories\, an art project\, music\, and vegan snacks to bring home.We are so excited to bring our programming to Austin-Irving!
URL:https://crueltyfreeyouandme.org/event-schedule/story-time-in-austin-irving-24/
LOCATION:Austin-Irving: Chicago Library Branch\, 6100 W Irving Park Rd\,\, Chicago\, IL\, 60634\, United States
END:VEVENT
BEGIN:VEVENT
DTSTART;TZID=America/Chicago:20260129T110000
DTEND;TZID=America/Chicago:20260129T120000
DTSTAMP:20260426T005020
CREATED:20251229T163030Z
LAST-MODIFIED:20251229T163030Z
UID:3376-1769684400-1769688000@crueltyfreeyouandme.org
SUMMARY:Story Time in Bucktown-WP
DESCRIPTION:Join us for Story Time at the Bucktown-Wicker Park Library Branch at 11am on the 2nd floor!
URL:https://crueltyfreeyouandme.org/event-schedule/story-time-in-bucktown-wp-17/
LOCATION:Chicago Public Library Bucktown Wicker-Park Branch\, 1701 N. Milwaukee Ave\, Chicago\, IL\, 60647
END:VEVENT
BEGIN:VEVENT
DTSTART;TZID=America/Chicago:20260201T093000
DTEND;TZID=America/Chicago:20260201T103000
DTSTAMP:20260426T005020
CREATED:20260208T134752Z
LAST-MODIFIED:20260208T134752Z
UID:3414-1769938200-1769941800@crueltyfreeyouandme.org
SUMMARY:Story Time at The Robey
DESCRIPTION:Join us for our Compassionate Children’s Programming at the The Robey every Sunday at 9:30am on the 2nd floor. We love being at this space during the off-season from WPFM. The theme is new each week and rotates between animals\, the environment\, and being kind to one another. Each session offers a community greeting\, two stories\, an art project\, and packaged vegan snacks. When we are indoors\, we also do bonus activities like our famous Scavenger Hunt! Sessions are donation-based. 100% of your donation goes back into programming in Wicker Park!
URL:https://crueltyfreeyouandme.org/event-schedule/story-time-at-the-robey-87/
LOCATION:The Robey\, 2018 W. North Ave.\, Chicago\, IL\, 60647
END:VEVENT
BEGIN:VEVENT
DTSTART;TZID=America/Chicago:20260202T110000
DTEND;TZID=America/Chicago:20260202T120000
DTSTAMP:20260426T005020
CREATED:20260208T134645Z
LAST-MODIFIED:20260208T134645Z
UID:3412-1770030000-1770033600@crueltyfreeyouandme.org
SUMMARY:Story Time in Bridgeport
DESCRIPTION:Join us for our Compassionate Children’s Programming at the Richard J. Daley Branch: Chicago Public Library. Sessions will begin at 11am. Each hour session includes two stories\, an art project\, music\, and vegan snacks to bring home. Located in their meeting room.
URL:https://crueltyfreeyouandme.org/event-schedule/story-time-in-bridgeport-114/
LOCATION:Bridgeport Daley Library\, 3400 S Halsted St\, Chicago\, IL\, 60608
END:VEVENT
BEGIN:VEVENT
DTSTART;TZID=America/Chicago:20260203T110000
DTEND;TZID=America/Chicago:20260203T120000
DTSTAMP:20260426T005020
CREATED:20260208T134823Z
LAST-MODIFIED:20260208T134823Z
UID:3416-1770116400-1770120000@crueltyfreeyouandme.org
SUMMARY:Story Time in Austin-Irving
DESCRIPTION:Join us for our Compassionate Children’s Programming at the Austin-Irving: Chicago Public Library. Sessions will begin at 11am. Each hour session includes two stories\, an art project\, music\, and vegan snacks to bring home.We are so excited to bring our programming to Austin-Irving!
URL:https://crueltyfreeyouandme.org/event-schedule/story-time-in-austin-irving-28/
LOCATION:Austin-Irving: Chicago Library Branch\, 6100 W Irving Park Rd\,\, Chicago\, IL\, 60634\, United States
END:VEVENT
BEGIN:VEVENT
DTSTART;TZID=America/Chicago:20260205T110000
DTEND;TZID=America/Chicago:20260205T120000
DTSTAMP:20260426T005020
CREATED:20260208T134905Z
LAST-MODIFIED:20260208T134905Z
UID:3418-1770289200-1770292800@crueltyfreeyouandme.org
SUMMARY:Story Time at Bucktown-WP
DESCRIPTION:Join us for Story Time at the Bucktown-Wicker Park Library Branch at 11am on the 2nd floor!
URL:https://crueltyfreeyouandme.org/event-schedule/story-time-at-bucktown-wp-4/
LOCATION:Chicago Public Library Bucktown Wicker-Park Branch\, 1701 N. Milwaukee Ave\, Chicago\, IL\, 60647
END:VEVENT
BEGIN:VEVENT
DTSTART;TZID=America/Chicago:20260208T093000
DTEND;TZID=America/Chicago:20260208T103000
DTSTAMP:20260426T005020
CREATED:20260208T133900Z
LAST-MODIFIED:20260208T133900Z
UID:3392-1770543000-1770546600@crueltyfreeyouandme.org
SUMMARY:Story Time at The Robey
DESCRIPTION:Join us for our Compassionate Children’s Programming at the The Robey every Sunday at 9:30am on the 2nd floor. We love being at this space during the off-season from WPFM. The theme is new each week and rotates between animals\, the environment\, and being kind to one another. Each session offers a community greeting\, two stories\, an art project\, and packaged vegan snacks. When we are indoors\, we also do bonus activities like our famous Scavenger Hunt! Sessions are donation-based. 100% of your donation goes back into programming in Wicker Park!
URL:https://crueltyfreeyouandme.org/event-schedule/story-time-at-the-robey-84/
LOCATION:The Robey\, 2018 W. North Ave.\, Chicago\, IL\, 60647
END:VEVENT
BEGIN:VEVENT
DTSTART;TZID=America/Chicago:20260209T110000
DTEND;TZID=America/Chicago:20260209T120000
DTSTAMP:20260426T005020
CREATED:20260208T134316Z
LAST-MODIFIED:20260208T134316Z
UID:3400-1770634800-1770638400@crueltyfreeyouandme.org
SUMMARY:Story Time in Bridgeport
DESCRIPTION:Join us for our Compassionate Children’s Programming at the Richard J. Daley Branch: Chicago Public Library. Sessions will begin at 11am. Each hour session includes two stories\, an art project\, music\, and vegan snacks to bring home. Located in their meeting room.
URL:https://crueltyfreeyouandme.org/event-schedule/story-time-in-bridgeport-112/
LOCATION:Bridgeport Daley Library\, 3400 S Halsted St\, Chicago\, IL\, 60608
END:VEVENT
BEGIN:VEVENT
DTSTART;TZID=America/Chicago:20260210T110000
DTEND;TZID=America/Chicago:20260210T120000
DTSTAMP:20260426T005020
CREATED:20260208T134445Z
LAST-MODIFIED:20260208T134445Z
UID:3404-1770721200-1770724800@crueltyfreeyouandme.org
SUMMARY:Story Time in Austin-Irving
DESCRIPTION:Join us for our Compassionate Children’s Programming at the Austin-Irving: Chicago Public Library. Sessions will begin at 11am. Each hour session includes two stories\, an art project\, music\, and vegan snacks to bring home.We are so excited to bring our programming to Austin-Irving!
URL:https://crueltyfreeyouandme.org/event-schedule/story-time-in-austin-irving-25/
LOCATION:Austin-Irving: Chicago Library Branch\, 6100 W Irving Park Rd\,\, Chicago\, IL\, 60634\, United States
END:VEVENT
BEGIN:VEVENT
DTSTART;TZID=America/Chicago:20260215T093000
DTEND;TZID=America/Chicago:20260215T103000
DTSTAMP:20260426T005020
CREATED:20260208T133951Z
LAST-MODIFIED:20260208T133951Z
UID:3394-1771147800-1771151400@crueltyfreeyouandme.org
SUMMARY:Story Time at The Robey
DESCRIPTION:Join us for our Compassionate Children’s Programming at the The Robey every Sunday at 9:30am on the 2nd floor. We love being at this space during the off-season from WPFM. The theme is new each week and rotates between animals\, the environment\, and being kind to one another. Each session offers a community greeting\, two stories\, an art project\, and packaged vegan snacks. When we are indoors\, we also do bonus activities like our famous Scavenger Hunt! Sessions are donation-based. 100% of your donation goes back into programming in Wicker Park!
URL:https://crueltyfreeyouandme.org/event-schedule/story-time-at-the-robey-85/
LOCATION:The Robey\, 2018 W. North Ave.\, Chicago\, IL\, 60647
END:VEVENT
BEGIN:VEVENT
DTSTART;TZID=America/Chicago:20260215T093000
DTEND;TZID=America/Chicago:20260215T103000
DTSTAMP:20260426T005020
CREATED:20260208T134222Z
LAST-MODIFIED:20260208T134222Z
UID:3398-1771147800-1771151400@crueltyfreeyouandme.org
SUMMARY:Kid's Corner at WPFM
DESCRIPTION:We are thrilled to be joining the Indoor Wicker Park Farmers Market this year! We will be running their Kid’s Corner from 10am to noon every time they bring their market indoors to the Royal Palms Shuffleboard. We will have four large booths where we will have coloring and crafts. We are also bringing our famous Scavenger Hunt! Each week features a new theme!! Join us at The Robey for our structured Story Time then walk down to Royal Palms for some more fun!
URL:https://crueltyfreeyouandme.org/event-schedule/kids-corner-at-wpfm-6/
LOCATION:Royal Palms\, 1750 N Milwaukee Ave\, Chicago\, IL
END:VEVENT
BEGIN:VEVENT
DTSTART;TZID=America/Chicago:20260215T120000
DTEND;TZID=America/Chicago:20260215T150000
DTSTAMP:20260426T005020
CREATED:20260114T154547Z
LAST-MODIFIED:20260114T154547Z
UID:3390-1771156800-1771167600@crueltyfreeyouandme.org
SUMMARY:Vegan in the Burbs Market
DESCRIPTION:Join us for our Vegan in the Burbs Valentine’s Market! We will be at Alter Brewing Co. from noon to 3pm with an incredible lineup! Kid friendly event!
URL:https://crueltyfreeyouandme.org/event-schedule/vegan-in-the-burbs-market-29/
END:VEVENT
BEGIN:VEVENT
DTSTART;TZID=America/Chicago:20260217T110000
DTEND;TZID=America/Chicago:20260217T120000
DTSTAMP:20260426T005020
CREATED:20260208T134511Z
LAST-MODIFIED:20260208T134511Z
UID:3406-1771326000-1771329600@crueltyfreeyouandme.org
SUMMARY:Story Time in Austin-Irving
DESCRIPTION:Join us for our Compassionate Children’s Programming at the Austin-Irving: Chicago Public Library. Sessions will begin at 11am. Each hour session includes two stories\, an art project\, music\, and vegan snacks to bring home.We are so excited to bring our programming to Austin-Irving!
URL:https://crueltyfreeyouandme.org/event-schedule/story-time-in-austin-irving-26/
LOCATION:Austin-Irving: Chicago Library Branch\, 6100 W Irving Park Rd\,\, Chicago\, IL\, 60634\, United States
END:VEVENT
BEGIN:VEVENT
DTSTART;TZID=America/Chicago:20260219T110000
DTEND;TZID=America/Chicago:20260219T120000
DTSTAMP:20260426T005020
CREATED:20260208T134604Z
LAST-MODIFIED:20260208T134604Z
UID:3410-1771498800-1771502400@crueltyfreeyouandme.org
SUMMARY:Story Time in Bucktown-WP
DESCRIPTION:Join us for Story Time at the Bucktown-Wicker Park Library Branch at 11am on the 2nd floor!
URL:https://crueltyfreeyouandme.org/event-schedule/story-time-in-bucktown-wp-18/
LOCATION:Chicago Public Library Bucktown Wicker-Park Branch\, 1701 N. Milwaukee Ave\, Chicago\, IL\, 60647
END:VEVENT
BEGIN:VEVENT
DTSTART;TZID=America/Chicago:20260222T093000
DTEND;TZID=America/Chicago:20260222T103000
DTSTAMP:20260426T005020
CREATED:20260208T134020Z
LAST-MODIFIED:20260208T134020Z
UID:3396-1771752600-1771756200@crueltyfreeyouandme.org
SUMMARY:Story Time at The Robey
DESCRIPTION:Join us for our Compassionate Children’s Programming at the The Robey every Sunday at 9:30am on the 2nd floor. We love being at this space during the off-season from WPFM. The theme is new each week and rotates between animals\, the environment\, and being kind to one another. Each session offers a community greeting\, two stories\, an art project\, and packaged vegan snacks. When we are indoors\, we also do bonus activities like our famous Scavenger Hunt! Sessions are donation-based. 100% of your donation goes back into programming in Wicker Park!
URL:https://crueltyfreeyouandme.org/event-schedule/story-time-at-the-robey-86/
LOCATION:The Robey\, 2018 W. North Ave.\, Chicago\, IL\, 60647
END:VEVENT
BEGIN:VEVENT
DTSTART;TZID=America/Chicago:20260223T110000
DTEND;TZID=America/Chicago:20260223T120000
DTSTAMP:20260426T005020
CREATED:20260208T134337Z
LAST-MODIFIED:20260208T134337Z
UID:3402-1771844400-1771848000@crueltyfreeyouandme.org
SUMMARY:Story Time in Bridgeport
DESCRIPTION:Join us for our Compassionate Children’s Programming at the Richard J. Daley Branch: Chicago Public Library. Sessions will begin at 11am. Each hour session includes two stories\, an art project\, music\, and vegan snacks to bring home. Located in their meeting room.
URL:https://crueltyfreeyouandme.org/event-schedule/story-time-in-bridgeport-113/
LOCATION:Bridgeport Daley Library\, 3400 S Halsted St\, Chicago\, IL\, 60608
END:VEVENT
BEGIN:VEVENT
DTSTART;TZID=America/Chicago:20260224T110000
DTEND;TZID=America/Chicago:20260224T120000
DTSTAMP:20260426T005020
CREATED:20260208T134531Z
LAST-MODIFIED:20260208T134531Z
UID:3408-1771930800-1771934400@crueltyfreeyouandme.org
SUMMARY:Story Time in Austin-Irving
DESCRIPTION:Join us for our Compassionate Children’s Programming at the Austin-Irving: Chicago Public Library. Sessions will begin at 11am. Each hour session includes two stories\, an art project\, music\, and vegan snacks to bring home.We are so excited to bring our programming to Austin-Irving!
URL:https://crueltyfreeyouandme.org/event-schedule/story-time-in-austin-irving-27/
LOCATION:Austin-Irving: Chicago Library Branch\, 6100 W Irving Park Rd\,\, Chicago\, IL\, 60634\, United States
END:VEVENT
BEGIN:VEVENT
DTSTART;TZID=America/Chicago:20260301T093000
DTEND;TZID=America/Chicago:20260301T103000
DTSTAMP:20260426T005020
CREATED:20260225T015037Z
LAST-MODIFIED:20260225T015037Z
UID:3452-1772357400-1772361000@crueltyfreeyouandme.org
SUMMARY:Story Time at The Robey
DESCRIPTION:Join us for our Compassionate Children’s Programming at the The Robey every Sunday at 9:30am on the 2nd floor. We love being at this space during the off-season from WPFM. The theme is new each week and rotates between animals\, the environment\, and being kind to one another. Each session offers a community greeting\, two stories\, an art project\, and packaged vegan snacks. When we are indoors\, we also do bonus activities like our famous Scavenger Hunt! Sessions are donation-based. 100% of your donation goes back into programming in Wicker Park!
URL:https://crueltyfreeyouandme.org/event-schedule/story-time-at-the-robey-88/
LOCATION:The Robey\, 2018 W. North Ave.\, Chicago\, IL\, 60647
END:VEVENT
BEGIN:VEVENT
DTSTART;TZID=America/Chicago:20260301T100000
DTEND;TZID=America/Chicago:20260301T120000
DTSTAMP:20260426T005020
CREATED:20260225T015535Z
LAST-MODIFIED:20260225T015535Z
UID:3462-1772359200-1772366400@crueltyfreeyouandme.org
SUMMARY:Kids Corner at WPFM
DESCRIPTION:We are thrilled to be joining the Indoor Wicker Park Farmers Market this year! We will be running their Kid’s Corner from 10am to noon every time they bring their market indoors to the Royal Palms Shuffleboard. We will have four large booths where we will have coloring and crafts. We are also bringing our famous Scavenger Hunt! Each week features a new theme!! Join us at The Robey for our structured Story Time then walk down to Royal Palms for some more fun!
URL:https://crueltyfreeyouandme.org/event-schedule/kids-corner-at-wpfm-7/
LOCATION:Royal Palms\, 1750 N Milwaukee Ave\, Chicago\, IL
END:VEVENT
BEGIN:VEVENT
DTSTART;TZID=America/Chicago:20260308T093000
DTEND;TZID=America/Chicago:20260308T103000
DTSTAMP:20260426T005020
CREATED:20260225T015105Z
LAST-MODIFIED:20260225T015105Z
UID:3454-1772962200-1772965800@crueltyfreeyouandme.org
SUMMARY:Story Time at The Robey
DESCRIPTION:Join us for our Compassionate Children’s Programming at the The Robey every Sunday at 9:30am on the 2nd floor. We love being at this space during the off-season from WPFM. The theme is new each week and rotates between animals\, the environment\, and being kind to one another. Each session offers a community greeting\, two stories\, an art project\, and packaged vegan snacks. When we are indoors\, we also do bonus activities like our famous Scavenger Hunt! Sessions are donation-based. 100% of your donation goes back into programming in Wicker Park!
URL:https://crueltyfreeyouandme.org/event-schedule/story-time-at-the-robey-89/
LOCATION:The Robey\, 2018 W. North Ave.\, Chicago\, IL\, 60647
END:VEVENT
BEGIN:VEVENT
DTSTART;TZID=America/Chicago:20260309T110000
DTEND;TZID=America/Chicago:20260309T120000
DTSTAMP:20260426T005020
CREATED:20260305T153149Z
LAST-MODIFIED:20260305T153149Z
UID:3468-1773054000-1773057600@crueltyfreeyouandme.org
SUMMARY:Story Time in Bridgeport
DESCRIPTION:Join us for our Compassionate Children’s Programming at the Richard J. Daley Branch: Chicago Public Library. Sessions will begin at 11am. Each hour session includes two stories\, an art project\, music\, and vegan snacks to bring home. Located in their meeting room.
URL:https://crueltyfreeyouandme.org/event-schedule/story-time-in-bridgeport-115/
LOCATION:Bridgeport Daley Library\, 3400 S Halsted St\, Chicago\, IL\, 60608
END:VEVENT
BEGIN:VEVENT
DTSTART;TZID=America/Chicago:20260310T110000
DTEND;TZID=America/Chicago:20260310T120000
DTSTAMP:20260426T005020
CREATED:20260305T153333Z
LAST-MODIFIED:20260305T153333Z
UID:3476-1773140400-1773144000@crueltyfreeyouandme.org
SUMMARY:Story Time in Austin-Irving
DESCRIPTION:Join us for our Compassionate Children’s Programming at the Austin-Irving: Chicago Public Library. Sessions will begin at 11am. Each hour session includes two stories\, an art project\, music\, and vegan snacks to bring home.We are so excited to bring our programming to Austin-Irving!
URL:https://crueltyfreeyouandme.org/event-schedule/story-time-in-austin-irving-29/
LOCATION:Austin-Irving: Chicago Library Branch\, 6100 W Irving Park Rd\,\, Chicago\, IL\, 60634\, United States
END:VEVENT
BEGIN:VEVENT
DTSTART;TZID=America/Chicago:20260315T093000
DTEND;TZID=America/Chicago:20260315T103000
DTSTAMP:20260426T005020
CREATED:20260225T015130Z
LAST-MODIFIED:20260225T015130Z
UID:3456-1773567000-1773570600@crueltyfreeyouandme.org
SUMMARY:Story Time at The Robey
DESCRIPTION:Join us for our Compassionate Children’s Programming at the The Robey every Sunday at 9:30am on the 2nd floor. We love being at this space during the off-season from WPFM. The theme is new each week and rotates between animals\, the environment\, and being kind to one another. Each session offers a community greeting\, two stories\, an art project\, and packaged vegan snacks. When we are indoors\, we also do bonus activities like our famous Scavenger Hunt! Sessions are donation-based. 100% of your donation goes back into programming in Wicker Park!
URL:https://crueltyfreeyouandme.org/event-schedule/story-time-at-the-robey-90/
LOCATION:The Robey\, 2018 W. North Ave.\, Chicago\, IL\, 60647
END:VEVENT
BEGIN:VEVENT
DTSTART;TZID=America/Chicago:20260315T100000
DTEND;TZID=America/Chicago:20260315T120000
DTSTAMP:20260426T005020
CREATED:20260225T015556Z
LAST-MODIFIED:20260225T015556Z
UID:3464-1773568800-1773576000@crueltyfreeyouandme.org
SUMMARY:Kids Corner at WPFM
DESCRIPTION:We are thrilled to be joining the Indoor Wicker Park Farmers Market this year! We will be running their Kid’s Corner from 10am to noon every time they bring their market indoors to the Royal Palms Shuffleboard. We will have four large booths where we will have coloring and crafts. We are also bringing our famous Scavenger Hunt! Each week features a new theme!! Join us at The Robey for our structured Story Time then walk down to Royal Palms for some more fun!
URL:https://crueltyfreeyouandme.org/event-schedule/kids-corner-at-wpfm-8/
LOCATION:Royal Palms\, 1750 N Milwaukee Ave\, Chicago\, IL
END:VEVENT
BEGIN:VEVENT
DTSTART;TZID=America/Chicago:20260316T110000
DTEND;TZID=America/Chicago:20260316T120000
DTSTAMP:20260426T005020
CREATED:20260305T153214Z
LAST-MODIFIED:20260305T153214Z
UID:3470-1773658800-1773662400@crueltyfreeyouandme.org
SUMMARY:Story Time in Bridgeport
DESCRIPTION:Join us for our Compassionate Children’s Programming at the Richard J. Daley Branch: Chicago Public Library. Sessions will begin at 11am. Each hour session includes two stories\, an art project\, music\, and vegan snacks to bring home. Located in their meeting room.
URL:https://crueltyfreeyouandme.org/event-schedule/story-time-in-bridgeport-116/
LOCATION:Bridgeport Daley Library\, 3400 S Halsted St\, Chicago\, IL\, 60608
END:VEVENT
BEGIN:VEVENT
DTSTART;TZID=America/Chicago:20260322T093000
DTEND;TZID=America/Chicago:20260322T103000
DTSTAMP:20260426T005020
CREATED:20260225T015152Z
LAST-MODIFIED:20260225T015152Z
UID:3458-1774171800-1774175400@crueltyfreeyouandme.org
SUMMARY:Story Time at The Robey
DESCRIPTION:Join us for our Compassionate Children’s Programming at the The Robey every Sunday at 9:30am on the 2nd floor. We love being at this space during the off-season from WPFM. The theme is new each week and rotates between animals\, the environment\, and being kind to one another. Each session offers a community greeting\, two stories\, an art project\, and packaged vegan snacks. When we are indoors\, we also do bonus activities like our famous Scavenger Hunt! Sessions are donation-based. 100% of your donation goes back into programming in Wicker Park!
URL:https://crueltyfreeyouandme.org/event-schedule/story-time-at-the-robey-91/
LOCATION:The Robey\, 2018 W. North Ave.\, Chicago\, IL\, 60647
END:VEVENT
BEGIN:VEVENT
DTSTART;TZID=America/Chicago:20260323T110000
DTEND;TZID=America/Chicago:20260323T120000
DTSTAMP:20260426T005020
CREATED:20260305T153235Z
LAST-MODIFIED:20260305T153235Z
UID:3472-1774263600-1774267200@crueltyfreeyouandme.org
SUMMARY:Story Time in Bridgeport
DESCRIPTION:Join us for our Compassionate Children’s Programming at the Richard J. Daley Branch: Chicago Public Library. Sessions will begin at 11am. Each hour session includes two stories\, an art project\, music\, and vegan snacks to bring home. Located in their meeting room.
URL:https://crueltyfreeyouandme.org/event-schedule/story-time-in-bridgeport-117/
LOCATION:Bridgeport Daley Library\, 3400 S Halsted St\, Chicago\, IL\, 60608
END:VEVENT
BEGIN:VEVENT
DTSTART;TZID=America/Chicago:20260324T110000
DTEND;TZID=America/Chicago:20260324T120000
DTSTAMP:20260426T005020
CREATED:20260305T153355Z
LAST-MODIFIED:20260305T153355Z
UID:3478-1774350000-1774353600@crueltyfreeyouandme.org
SUMMARY:Story Time in Austin-Irving
DESCRIPTION:Join us for our Compassionate Children’s Programming at the Austin-Irving: Chicago Public Library. Sessions will begin at 11am. Each hour session includes two stories\, an art project\, music\, and vegan snacks to bring home.We are so excited to bring our programming to Austin-Irving!
URL:https://crueltyfreeyouandme.org/event-schedule/story-time-in-austin-irving-30/
LOCATION:Austin-Irving: Chicago Library Branch\, 6100 W Irving Park Rd\,\, Chicago\, IL\, 60634\, United States
END:VEVENT
BEGIN:VEVENT
DTSTART;TZID=America/Chicago:20260326T110000
DTEND;TZID=America/Chicago:20260326T120000
DTSTAMP:20260426T005020
CREATED:20260305T153512Z
LAST-MODIFIED:20260305T153512Z
UID:3482-1774522800-1774526400@crueltyfreeyouandme.org
SUMMARY:Story Time in Bucktown-WP
DESCRIPTION:Join us for Story Time at the Bucktown-Wicker Park Library Branch at 11am on the 2nd floor!
URL:https://crueltyfreeyouandme.org/event-schedule/story-time-in-bucktown-wp-19/
LOCATION:Chicago Public Library Bucktown Wicker-Park Branch\, 1701 N. Milwaukee Ave\, Chicago\, IL\, 60647
END:VEVENT
END:VCALENDAR