BEGIN:VCALENDAR
VERSION:2.0
PRODID:-//Cruelty Free You + Me - ECPv6.15.20//NONSGML v1.0//EN
CALSCALE:GREGORIAN
METHOD:PUBLISH
X-ORIGINAL-URL:https://crueltyfreeyouandme.org
X-WR-CALDESC:Events for Cruelty Free You + Me
REFRESH-INTERVAL;VALUE=DURATION:PT1H
X-Robots-Tag:noindex
X-PUBLISHED-TTL:PT1H
BEGIN:VTIMEZONE
TZID:America/Chicago
BEGIN:DAYLIGHT
TZOFFSETFROM:-0600
TZOFFSETTO:-0500
TZNAME:CDT
DTSTART:20240310T080000
END:DAYLIGHT
BEGIN:STANDARD
TZOFFSETFROM:-0500
TZOFFSETTO:-0600
TZNAME:CST
DTSTART:20241103T070000
END:STANDARD
BEGIN:DAYLIGHT
TZOFFSETFROM:-0600
TZOFFSETTO:-0500
TZNAME:CDT
DTSTART:20250309T080000
END:DAYLIGHT
BEGIN:STANDARD
TZOFFSETFROM:-0500
TZOFFSETTO:-0600
TZNAME:CST
DTSTART:20251102T070000
END:STANDARD
BEGIN:DAYLIGHT
TZOFFSETFROM:-0600
TZOFFSETTO:-0500
TZNAME:CDT
DTSTART:20260308T080000
END:DAYLIGHT
BEGIN:STANDARD
TZOFFSETFROM:-0500
TZOFFSETTO:-0600
TZNAME:CST
DTSTART:20261101T070000
END:STANDARD
BEGIN:DAYLIGHT
TZOFFSETFROM:-0600
TZOFFSETTO:-0500
TZNAME:CDT
DTSTART:20270314T080000
END:DAYLIGHT
BEGIN:STANDARD
TZOFFSETFROM:-0500
TZOFFSETTO:-0600
TZNAME:CST
DTSTART:20271107T070000
END:STANDARD
END:VTIMEZONE
BEGIN:VEVENT
DTSTART;TZID=America/Chicago:20251221T093000
DTEND;TZID=America/Chicago:20251221T103000
DTSTAMP:20260426T021605
CREATED:20251126T163354Z
LAST-MODIFIED:20251126T163354Z
UID:3314-1766309400-1766313000@crueltyfreeyouandme.org
SUMMARY:Story Time at The Robey
DESCRIPTION:Join us for our Compassionate Children’s Programming at the The Robey every Sunday at 9:30am on the 2nd floor. We love being at this space during the off-season from WPFM. The theme is new each week and rotates between animals\, the environment\, and being kind to one another. Each session offers a community greeting\, two stories\, an art project\, and packaged vegan snacks. When we are indoors\, we also do bonus activities like our famous Scavenger Hunt! Sessions are donation-based. 100% of your donation goes back into programming in Wicker Park!
URL:https://crueltyfreeyouandme.org/event-schedule/story-time-at-the-robey-78/
END:VEVENT
BEGIN:VEVENT
DTSTART;TZID=America/Chicago:20251228T093000
DTEND;TZID=America/Chicago:20251228T103000
DTSTAMP:20260426T021605
CREATED:20251126T163413Z
LAST-MODIFIED:20251126T163413Z
UID:3316-1766914200-1766917800@crueltyfreeyouandme.org
SUMMARY:Story Time at The Robey
DESCRIPTION:Join us for our Compassionate Children’s Programming at the The Robey every Sunday at 9:30am on the 2nd floor. We love being at this space during the off-season from WPFM. The theme is new each week and rotates between animals\, the environment\, and being kind to one another. Each session offers a community greeting\, two stories\, an art project\, and packaged vegan snacks. When we are indoors\, we also do bonus activities like our famous Scavenger Hunt! Sessions are donation-based. 100% of your donation goes back into programming in Wicker Park!
URL:https://crueltyfreeyouandme.org/event-schedule/story-time-at-the-robey-79/
LOCATION:The Robey\, 2018 W. North Ave.\, Chicago\, IL\, 60647
END:VEVENT
BEGIN:VEVENT
DTSTART;TZID=America/Chicago:20251228T100000
DTEND;TZID=America/Chicago:20251228T120000
DTSTAMP:20260426T021605
CREATED:20251126T164100Z
LAST-MODIFIED:20251126T164100Z
UID:3324-1766916000-1766923200@crueltyfreeyouandme.org
SUMMARY:Kid's Corner at WPFM
DESCRIPTION:We are thrilled to be joining the Indoor Wicker Park Farmers Market this year! We will be running their Kid’s Corner from 10am to noon every time they bring their market indoors to the Royal Palms Shuffleboard. We will have four large booths where we will have coloring and crafts. We are also bringing our famous Scavenger Hunt! Each week features a new theme!! Join us at The Robey for our structured Story Time then walk down to Royal Palms for some more fun!
URL:https://crueltyfreeyouandme.org/event-schedule/kids-corner-at-wpfm-3/
LOCATION:Royal Palms\, 1750 N Milwaukee Ave\, Chicago\, IL
END:VEVENT
BEGIN:VEVENT
DTSTART;TZID=America/Chicago:20260104T093000
DTEND;TZID=America/Chicago:20260104T103000
DTSTAMP:20260426T021605
CREATED:20251229T163154Z
LAST-MODIFIED:20251229T163154Z
UID:3378-1767519000-1767522600@crueltyfreeyouandme.org
SUMMARY:Story Time at The Robey
DESCRIPTION:Join us for our Compassionate Children’s Programming at the The Robey every Sunday at 9:30am on the 2nd floor. We love being at this space during the off-season from WPFM. The theme is new each week and rotates between animals\, the environment\, and being kind to one another. Each session offers a community greeting\, two stories\, an art project\, and packaged vegan snacks. When we are indoors\, we also do bonus activities like our famous Scavenger Hunt! Sessions are donation-based. 100% of your donation goes back into programming in Wicker Park!
URL:https://crueltyfreeyouandme.org/event-schedule/story-time-at-the-robey-80/
LOCATION:The Robey\, 2018 W. North Ave.\, Chicago\, IL\, 60647
END:VEVENT
BEGIN:VEVENT
DTSTART;TZID=America/Chicago:20260104T100000
DTEND;TZID=America/Chicago:20260104T120000
DTSTAMP:20260426T021605
CREATED:20251229T163357Z
LAST-MODIFIED:20251229T163357Z
UID:3386-1767520800-1767528000@crueltyfreeyouandme.org
SUMMARY:Kid's Corner at WPFM
DESCRIPTION:We are thrilled to be joining the Indoor Wicker Park Farmers Market this year! We will be running their Kid’s Corner from 10am to noon every time they bring their market indoors to the Royal Palms Shuffleboard. We will have four large booths where we will have coloring and crafts. We are also bringing our famous Scavenger Hunt! Each week features a new theme!! Join us at The Robey for our structured Story Time then walk down to Royal Palms for some more fun!
URL:https://crueltyfreeyouandme.org/event-schedule/kids-corner-at-wpfm-4/
LOCATION:Royal Palms\, 1750 N Milwaukee Ave\, Chicago\, IL
END:VEVENT
BEGIN:VEVENT
DTSTART;TZID=America/Chicago:20260105T110000
DTEND;TZID=America/Chicago:20260105T120000
DTSTAMP:20260426T021605
CREATED:20251229T162731Z
LAST-MODIFIED:20251229T162731Z
UID:3364-1767610800-1767614400@crueltyfreeyouandme.org
SUMMARY:Story Time in Bridgeport
DESCRIPTION:Join us for our Compassionate Children’s Programming at the Richard J. Daley Branch: Chicago Public Library. Sessions will begin at 11am. Each hour session includes two stories\, an art project\, music\, and vegan snacks to bring home. Located in their meeting room.
URL:https://crueltyfreeyouandme.org/event-schedule/story-time-in-bridgeport-109/
LOCATION:Bridgeport Daley Library\, 3400 S Halsted St\, Chicago\, IL\, 60608
END:VEVENT
BEGIN:VEVENT
DTSTART;TZID=America/Chicago:20260106T110000
DTEND;TZID=America/Chicago:20260106T120000
DTSTAMP:20260426T021605
CREATED:20251229T162428Z
LAST-MODIFIED:20251229T162428Z
UID:3356-1767697200-1767700800@crueltyfreeyouandme.org
SUMMARY:Story Time in Austin-Irving!
DESCRIPTION:Join us for our Compassionate Children’s Programming at the Austin-Irving: Chicago Public Library. Sessions will begin at 11am. Each hour session includes two stories\, an art project\, music\, and vegan snacks to bring home.We are so excited to bring our programming to Austin-Irving!
URL:https://crueltyfreeyouandme.org/event-schedule/story-time-in-austin-irving-21/
LOCATION:Austin-Irving: Chicago Library Branch\, 6100 W Irving Park Rd\,\, Chicago\, IL\, 60634\, United States
END:VEVENT
BEGIN:VEVENT
DTSTART;TZID=America/Chicago:20260108T110000
DTEND;TZID=America/Chicago:20260108T120000
DTSTAMP:20260426T021605
CREATED:20251229T162906Z
LAST-MODIFIED:20251229T162906Z
UID:3370-1767870000-1767873600@crueltyfreeyouandme.org
SUMMARY:Story Time in Bucktown-WP
DESCRIPTION:Join us for Story Time at the Bucktown-Wicker Park Library Branch at 11am on the 2nd floor!
URL:https://crueltyfreeyouandme.org/event-schedule/story-time-in-bucktown-wp-15/
LOCATION:Chicago Public Library Bucktown Wicker-Park Branch\, 1701 N. Milwaukee Ave\, Chicago\, IL\, 60647
END:VEVENT
BEGIN:VEVENT
DTSTART;TZID=America/Chicago:20260111T093000
DTEND;TZID=America/Chicago:20260111T113000
DTSTAMP:20260426T021605
CREATED:20251229T163219Z
LAST-MODIFIED:20251229T163219Z
UID:3380-1768123800-1768131000@crueltyfreeyouandme.org
SUMMARY:Story Time at The Robey
DESCRIPTION:Join us for our Compassionate Children’s Programming at the The Robey every Sunday at 9:30am on the 2nd floor. We love being at this space during the off-season from WPFM. The theme is new each week and rotates between animals\, the environment\, and being kind to one another. Each session offers a community greeting\, two stories\, an art project\, and packaged vegan snacks. When we are indoors\, we also do bonus activities like our famous Scavenger Hunt! Sessions are donation-based. 100% of your donation goes back into programming in Wicker Park!
URL:https://crueltyfreeyouandme.org/event-schedule/story-time-at-the-robey-81/
LOCATION:The Robey\, 2018 W. North Ave.\, Chicago\, IL\, 60647
END:VEVENT
BEGIN:VEVENT
DTSTART;TZID=America/Chicago:20260112T110000
DTEND;TZID=America/Chicago:20260112T120000
DTSTAMP:20260426T021605
CREATED:20251229T162750Z
LAST-MODIFIED:20251229T162750Z
UID:3366-1768215600-1768219200@crueltyfreeyouandme.org
SUMMARY:Story Time in Bridgeport
DESCRIPTION:Join us for our Compassionate Children’s Programming at the Richard J. Daley Branch: Chicago Public Library. Sessions will begin at 11am. Each hour session includes two stories\, an art project\, music\, and vegan snacks to bring home. Located in their meeting room.
URL:https://crueltyfreeyouandme.org/event-schedule/story-time-in-bridgeport-110/
LOCATION:Bridgeport Daley Library\, 3400 S Halsted St\, Chicago\, IL\, 60608
END:VEVENT
BEGIN:VEVENT
DTSTART;TZID=America/Chicago:20260113T110000
DTEND;TZID=America/Chicago:20260113T120000
DTSTAMP:20260426T021605
CREATED:20251229T162520Z
LAST-MODIFIED:20251229T162520Z
UID:3358-1768302000-1768305600@crueltyfreeyouandme.org
SUMMARY:Story Time in Austin-Irving
DESCRIPTION:Join us for our Compassionate Children’s Programming at the Austin-Irving: Chicago Public Library. Sessions will begin at 11am. Each hour session includes two stories\, an art project\, music\, and vegan snacks to bring home.We are so excited to bring our programming to Austin-Irving!
URL:https://crueltyfreeyouandme.org/event-schedule/story-time-in-austin-irving-22/
LOCATION:Austin-Irving: Chicago Library Branch\, 6100 W Irving Park Rd\,\, Chicago\, IL\, 60634\, United States
END:VEVENT
BEGIN:VEVENT
DTSTART;TZID=America/Chicago:20260113T150000
DTEND;TZID=America/Chicago:20260113T220000
DTSTAMP:20260426T021605
CREATED:20251229T161658Z
LAST-MODIFIED:20251229T161658Z
UID:3354-1768316400-1768341600@crueltyfreeyouandme.org
SUMMARY:Community Giveback Night!
DESCRIPTION:Cruelty Free You + Me turns 6 years old in January\, so we are kicking off the celebrations with our Community Giveback Night at Alter Brewing Co. on Tuesday\, January 13th! \nCome celebrate with us at Alter in Downers Grove between 3pm and 10pm. $1 from every adult beverage purchase will benefit CFY+M. \nOur friends at Libby’s Corner and The Vulgar Vegan will be their selling food between 5pm and 8pm! \nKid friendly event!
URL:https://crueltyfreeyouandme.org/event-schedule/community-giveback-night-5/
LOCATION:Alter Brewing Co.\, 2300 Wisconsin Ave UNIT 213\,\, Downers Grove\, IL\, 60515\, United States
END:VEVENT
BEGIN:VEVENT
DTSTART;TZID=America/Chicago:20260115T110000
DTEND;TZID=America/Chicago:20260115T120000
DTSTAMP:20260426T021605
CREATED:20251229T162930Z
LAST-MODIFIED:20251229T162930Z
UID:3372-1768474800-1768478400@crueltyfreeyouandme.org
SUMMARY:Story Time in Bucktown-WP
DESCRIPTION:Join us for Story Time at the Bucktown-Wicker Park Library Branch at 11am on the 2nd floor!
URL:https://crueltyfreeyouandme.org/event-schedule/story-time-in-bucktown-wp-16/
LOCATION:Chicago Public Library Bucktown Wicker-Park Branch\, 1701 N. Milwaukee Ave\, Chicago\, IL\, 60647
END:VEVENT
BEGIN:VEVENT
DTSTART;TZID=America/Chicago:20260117T120000
DTEND;TZID=America/Chicago:20260117T170000
DTSTAMP:20260426T021605
CREATED:20251229T161449Z
LAST-MODIFIED:20251229T161449Z
UID:3352-1768651200-1768669200@crueltyfreeyouandme.org
SUMMARY:Vegan in the Burbs 6th Birthday Market!
DESCRIPTION:Cruelty Free You + Me turns 6 years old in January\, so we thought why not celebrate at our Vegan in the Burbs Market! Come celebrate with us at Soundgrowler Brewing Co. in Tinley Park on Saturday\, January 17th between noon and 5pm! Yes\, this market has extended hours to make it accessible to more people. We will have amazing vegan food options\, sweet treats\, and plenty of makers to shop from. You can enjoy all this with some cold beers from Soundgrowler! \nEvent is kid friendly!
URL:https://crueltyfreeyouandme.org/event-schedule/vegan-in-the-burbs-6th-birthday-market/
LOCATION:Soundgrowler\, 8201 183rd St Suite P\, Tinley Park\, IL\, 60487\, United States
END:VEVENT
BEGIN:VEVENT
DTSTART;TZID=America/Chicago:20260118T093000
DTEND;TZID=America/Chicago:20260118T103000
DTSTAMP:20260426T021605
CREATED:20251229T163247Z
LAST-MODIFIED:20251229T163247Z
UID:3382-1768728600-1768732200@crueltyfreeyouandme.org
SUMMARY:Story Time at The Robey
DESCRIPTION:Join us for our Compassionate Children’s Programming at the The Robey every Sunday at 9:30am on the 2nd floor. We love being at this space during the off-season from WPFM. The theme is new each week and rotates between animals\, the environment\, and being kind to one another. Each session offers a community greeting\, two stories\, an art project\, and packaged vegan snacks. When we are indoors\, we also do bonus activities like our famous Scavenger Hunt! Sessions are donation-based. 100% of your donation goes back into programming in Wicker Park!
URL:https://crueltyfreeyouandme.org/event-schedule/story-time-at-the-robey-82/
LOCATION:The Robey\, 2018 W. North Ave.\, Chicago\, IL\, 60647
END:VEVENT
BEGIN:VEVENT
DTSTART;TZID=America/Chicago:20260118T100000
DTEND;TZID=America/Chicago:20260118T120000
DTSTAMP:20260426T021605
CREATED:20251229T163421Z
LAST-MODIFIED:20251229T163421Z
UID:3388-1768730400-1768737600@crueltyfreeyouandme.org
SUMMARY:Kid's Corner at WPFM
DESCRIPTION:We are thrilled to be joining the Indoor Wicker Park Farmers Market this year! We will be running their Kid’s Corner from 10am to noon every time they bring their market indoors to the Royal Palms Shuffleboard. We will have four large booths where we will have coloring and crafts. We are also bringing our famous Scavenger Hunt! Each week features a new theme!! Join us at The Robey for our structured Story Time then walk down to Royal Palms for some more fun!
URL:https://crueltyfreeyouandme.org/event-schedule/kids-corner-at-wpfm-5/
LOCATION:Royal Palms\, 1750 N Milwaukee Ave\, Chicago\, IL
END:VEVENT
BEGIN:VEVENT
DTSTART;TZID=America/Chicago:20260120T110000
DTEND;TZID=America/Chicago:20260120T120000
DTSTAMP:20260426T021605
CREATED:20251229T162541Z
LAST-MODIFIED:20251229T162541Z
UID:3360-1768906800-1768910400@crueltyfreeyouandme.org
SUMMARY:Story Time in Austin-Irving
DESCRIPTION:Join us for our Compassionate Children’s Programming at the Austin-Irving: Chicago Public Library. Sessions will begin at 11am. Each hour session includes two stories\, an art project\, music\, and vegan snacks to bring home.We are so excited to bring our programming to Austin-Irving!
URL:https://crueltyfreeyouandme.org/event-schedule/story-time-in-austin-irving-23/
LOCATION:Austin-Irving: Chicago Library Branch\, 6100 W Irving Park Rd\,\, Chicago\, IL\, 60634\, United States
END:VEVENT
BEGIN:VEVENT
DTSTART;TZID=America/Chicago:20260122T110000
DTEND;TZID=America/Chicago:20260122T120000
DTSTAMP:20260426T021605
CREATED:20251229T162951Z
LAST-MODIFIED:20251229T162951Z
UID:3374-1769079600-1769083200@crueltyfreeyouandme.org
SUMMARY:Story Time at Bucktown-WP
DESCRIPTION:Join us for Story Time at the Bucktown-Wicker Park Library Branch at 11am on the 2nd floor!
URL:https://crueltyfreeyouandme.org/event-schedule/story-time-at-bucktown-wp-3/
LOCATION:Chicago Public Library Bucktown Wicker-Park Branch\, 1701 N. Milwaukee Ave\, Chicago\, IL\, 60647
END:VEVENT
BEGIN:VEVENT
DTSTART;TZID=America/Chicago:20260125T093000
DTEND;TZID=America/Chicago:20260125T103000
DTSTAMP:20260426T021605
CREATED:20251229T163309Z
LAST-MODIFIED:20251229T163309Z
UID:3384-1769333400-1769337000@crueltyfreeyouandme.org
SUMMARY:Story Time at The Robey
DESCRIPTION:Join us for our Compassionate Children’s Programming at the The Robey every Sunday at 9:30am on the 2nd floor. We love being at this space during the off-season from WPFM. The theme is new each week and rotates between animals\, the environment\, and being kind to one another. Each session offers a community greeting\, two stories\, an art project\, and packaged vegan snacks. When we are indoors\, we also do bonus activities like our famous Scavenger Hunt! Sessions are donation-based. 100% of your donation goes back into programming in Wicker Park!
URL:https://crueltyfreeyouandme.org/event-schedule/story-time-at-the-robey-83/
LOCATION:The Robey\, 2018 W. North Ave.\, Chicago\, IL\, 60647
END:VEVENT
BEGIN:VEVENT
DTSTART;TZID=America/Chicago:20260126T110000
DTEND;TZID=America/Chicago:20260126T120000
DTSTAMP:20260426T021605
CREATED:20251229T162810Z
LAST-MODIFIED:20251229T162810Z
UID:3368-1769425200-1769428800@crueltyfreeyouandme.org
SUMMARY:Story Time in Bridgeport
DESCRIPTION:Join us for our Compassionate Children’s Programming at the Richard J. Daley Branch: Chicago Public Library. Sessions will begin at 11am. Each hour session includes two stories\, an art project\, music\, and vegan snacks to bring home. Located in their meeting room.
URL:https://crueltyfreeyouandme.org/event-schedule/story-time-in-bridgeport-111/
LOCATION:Bridgeport Daley Library\, 3400 S Halsted St\, Chicago\, IL\, 60608
END:VEVENT
BEGIN:VEVENT
DTSTART;TZID=America/Chicago:20260127T110000
DTEND;TZID=America/Chicago:20260127T120000
DTSTAMP:20260426T021605
CREATED:20251229T162615Z
LAST-MODIFIED:20251229T162615Z
UID:3362-1769511600-1769515200@crueltyfreeyouandme.org
SUMMARY:Story Time in Austin-Irving
DESCRIPTION:Join us for our Compassionate Children’s Programming at the Austin-Irving: Chicago Public Library. Sessions will begin at 11am. Each hour session includes two stories\, an art project\, music\, and vegan snacks to bring home.We are so excited to bring our programming to Austin-Irving!
URL:https://crueltyfreeyouandme.org/event-schedule/story-time-in-austin-irving-24/
LOCATION:Austin-Irving: Chicago Library Branch\, 6100 W Irving Park Rd\,\, Chicago\, IL\, 60634\, United States
END:VEVENT
BEGIN:VEVENT
DTSTART;TZID=America/Chicago:20260129T110000
DTEND;TZID=America/Chicago:20260129T120000
DTSTAMP:20260426T021605
CREATED:20251229T163030Z
LAST-MODIFIED:20251229T163030Z
UID:3376-1769684400-1769688000@crueltyfreeyouandme.org
SUMMARY:Story Time in Bucktown-WP
DESCRIPTION:Join us for Story Time at the Bucktown-Wicker Park Library Branch at 11am on the 2nd floor!
URL:https://crueltyfreeyouandme.org/event-schedule/story-time-in-bucktown-wp-17/
LOCATION:Chicago Public Library Bucktown Wicker-Park Branch\, 1701 N. Milwaukee Ave\, Chicago\, IL\, 60647
END:VEVENT
BEGIN:VEVENT
DTSTART;TZID=America/Chicago:20260201T093000
DTEND;TZID=America/Chicago:20260201T103000
DTSTAMP:20260426T021605
CREATED:20260208T134752Z
LAST-MODIFIED:20260208T134752Z
UID:3414-1769938200-1769941800@crueltyfreeyouandme.org
SUMMARY:Story Time at The Robey
DESCRIPTION:Join us for our Compassionate Children’s Programming at the The Robey every Sunday at 9:30am on the 2nd floor. We love being at this space during the off-season from WPFM. The theme is new each week and rotates between animals\, the environment\, and being kind to one another. Each session offers a community greeting\, two stories\, an art project\, and packaged vegan snacks. When we are indoors\, we also do bonus activities like our famous Scavenger Hunt! Sessions are donation-based. 100% of your donation goes back into programming in Wicker Park!
URL:https://crueltyfreeyouandme.org/event-schedule/story-time-at-the-robey-87/
LOCATION:The Robey\, 2018 W. North Ave.\, Chicago\, IL\, 60647
END:VEVENT
BEGIN:VEVENT
DTSTART;TZID=America/Chicago:20260202T110000
DTEND;TZID=America/Chicago:20260202T120000
DTSTAMP:20260426T021605
CREATED:20260208T134645Z
LAST-MODIFIED:20260208T134645Z
UID:3412-1770030000-1770033600@crueltyfreeyouandme.org
SUMMARY:Story Time in Bridgeport
DESCRIPTION:Join us for our Compassionate Children’s Programming at the Richard J. Daley Branch: Chicago Public Library. Sessions will begin at 11am. Each hour session includes two stories\, an art project\, music\, and vegan snacks to bring home. Located in their meeting room.
URL:https://crueltyfreeyouandme.org/event-schedule/story-time-in-bridgeport-114/
LOCATION:Bridgeport Daley Library\, 3400 S Halsted St\, Chicago\, IL\, 60608
END:VEVENT
BEGIN:VEVENT
DTSTART;TZID=America/Chicago:20260203T110000
DTEND;TZID=America/Chicago:20260203T120000
DTSTAMP:20260426T021605
CREATED:20260208T134823Z
LAST-MODIFIED:20260208T134823Z
UID:3416-1770116400-1770120000@crueltyfreeyouandme.org
SUMMARY:Story Time in Austin-Irving
DESCRIPTION:Join us for our Compassionate Children’s Programming at the Austin-Irving: Chicago Public Library. Sessions will begin at 11am. Each hour session includes two stories\, an art project\, music\, and vegan snacks to bring home.We are so excited to bring our programming to Austin-Irving!
URL:https://crueltyfreeyouandme.org/event-schedule/story-time-in-austin-irving-28/
LOCATION:Austin-Irving: Chicago Library Branch\, 6100 W Irving Park Rd\,\, Chicago\, IL\, 60634\, United States
END:VEVENT
BEGIN:VEVENT
DTSTART;TZID=America/Chicago:20260205T110000
DTEND;TZID=America/Chicago:20260205T120000
DTSTAMP:20260426T021605
CREATED:20260208T134905Z
LAST-MODIFIED:20260208T134905Z
UID:3418-1770289200-1770292800@crueltyfreeyouandme.org
SUMMARY:Story Time at Bucktown-WP
DESCRIPTION:Join us for Story Time at the Bucktown-Wicker Park Library Branch at 11am on the 2nd floor!
URL:https://crueltyfreeyouandme.org/event-schedule/story-time-at-bucktown-wp-4/
LOCATION:Chicago Public Library Bucktown Wicker-Park Branch\, 1701 N. Milwaukee Ave\, Chicago\, IL\, 60647
END:VEVENT
BEGIN:VEVENT
DTSTART;TZID=America/Chicago:20260208T093000
DTEND;TZID=America/Chicago:20260208T103000
DTSTAMP:20260426T021605
CREATED:20260208T133900Z
LAST-MODIFIED:20260208T133900Z
UID:3392-1770543000-1770546600@crueltyfreeyouandme.org
SUMMARY:Story Time at The Robey
DESCRIPTION:Join us for our Compassionate Children’s Programming at the The Robey every Sunday at 9:30am on the 2nd floor. We love being at this space during the off-season from WPFM. The theme is new each week and rotates between animals\, the environment\, and being kind to one another. Each session offers a community greeting\, two stories\, an art project\, and packaged vegan snacks. When we are indoors\, we also do bonus activities like our famous Scavenger Hunt! Sessions are donation-based. 100% of your donation goes back into programming in Wicker Park!
URL:https://crueltyfreeyouandme.org/event-schedule/story-time-at-the-robey-84/
LOCATION:The Robey\, 2018 W. North Ave.\, Chicago\, IL\, 60647
END:VEVENT
BEGIN:VEVENT
DTSTART;TZID=America/Chicago:20260209T110000
DTEND;TZID=America/Chicago:20260209T120000
DTSTAMP:20260426T021605
CREATED:20260208T134316Z
LAST-MODIFIED:20260208T134316Z
UID:3400-1770634800-1770638400@crueltyfreeyouandme.org
SUMMARY:Story Time in Bridgeport
DESCRIPTION:Join us for our Compassionate Children’s Programming at the Richard J. Daley Branch: Chicago Public Library. Sessions will begin at 11am. Each hour session includes two stories\, an art project\, music\, and vegan snacks to bring home. Located in their meeting room.
URL:https://crueltyfreeyouandme.org/event-schedule/story-time-in-bridgeport-112/
LOCATION:Bridgeport Daley Library\, 3400 S Halsted St\, Chicago\, IL\, 60608
END:VEVENT
BEGIN:VEVENT
DTSTART;TZID=America/Chicago:20260210T110000
DTEND;TZID=America/Chicago:20260210T120000
DTSTAMP:20260426T021605
CREATED:20260208T134445Z
LAST-MODIFIED:20260208T134445Z
UID:3404-1770721200-1770724800@crueltyfreeyouandme.org
SUMMARY:Story Time in Austin-Irving
DESCRIPTION:Join us for our Compassionate Children’s Programming at the Austin-Irving: Chicago Public Library. Sessions will begin at 11am. Each hour session includes two stories\, an art project\, music\, and vegan snacks to bring home.We are so excited to bring our programming to Austin-Irving!
URL:https://crueltyfreeyouandme.org/event-schedule/story-time-in-austin-irving-25/
LOCATION:Austin-Irving: Chicago Library Branch\, 6100 W Irving Park Rd\,\, Chicago\, IL\, 60634\, United States
END:VEVENT
BEGIN:VEVENT
DTSTART;TZID=America/Chicago:20260215T093000
DTEND;TZID=America/Chicago:20260215T103000
DTSTAMP:20260426T021605
CREATED:20260208T133951Z
LAST-MODIFIED:20260208T133951Z
UID:3394-1771147800-1771151400@crueltyfreeyouandme.org
SUMMARY:Story Time at The Robey
DESCRIPTION:Join us for our Compassionate Children’s Programming at the The Robey every Sunday at 9:30am on the 2nd floor. We love being at this space during the off-season from WPFM. The theme is new each week and rotates between animals\, the environment\, and being kind to one another. Each session offers a community greeting\, two stories\, an art project\, and packaged vegan snacks. When we are indoors\, we also do bonus activities like our famous Scavenger Hunt! Sessions are donation-based. 100% of your donation goes back into programming in Wicker Park!
URL:https://crueltyfreeyouandme.org/event-schedule/story-time-at-the-robey-85/
LOCATION:The Robey\, 2018 W. North Ave.\, Chicago\, IL\, 60647
END:VEVENT
END:VCALENDAR