BEGIN:VCALENDAR
VERSION:2.0
PRODID:-//Cruelty Free You + Me - ECPv6.15.20//NONSGML v1.0//EN
CALSCALE:GREGORIAN
METHOD:PUBLISH
X-WR-CALNAME:Cruelty Free You + Me
X-ORIGINAL-URL:https://crueltyfreeyouandme.org
X-WR-CALDESC:Events for Cruelty Free You + Me
REFRESH-INTERVAL;VALUE=DURATION:PT1H
X-Robots-Tag:noindex
X-PUBLISHED-TTL:PT1H
BEGIN:VTIMEZONE
TZID:America/Chicago
BEGIN:DAYLIGHT
TZOFFSETFROM:-0600
TZOFFSETTO:-0500
TZNAME:CDT
DTSTART:20240310T080000
END:DAYLIGHT
BEGIN:STANDARD
TZOFFSETFROM:-0500
TZOFFSETTO:-0600
TZNAME:CST
DTSTART:20241103T070000
END:STANDARD
BEGIN:DAYLIGHT
TZOFFSETFROM:-0600
TZOFFSETTO:-0500
TZNAME:CDT
DTSTART:20250309T080000
END:DAYLIGHT
BEGIN:STANDARD
TZOFFSETFROM:-0500
TZOFFSETTO:-0600
TZNAME:CST
DTSTART:20251102T070000
END:STANDARD
BEGIN:DAYLIGHT
TZOFFSETFROM:-0600
TZOFFSETTO:-0500
TZNAME:CDT
DTSTART:20260308T080000
END:DAYLIGHT
BEGIN:STANDARD
TZOFFSETFROM:-0500
TZOFFSETTO:-0600
TZNAME:CST
DTSTART:20261101T070000
END:STANDARD
END:VTIMEZONE
BEGIN:VEVENT
DTSTART;TZID=America/Chicago:20251216T110000
DTEND;TZID=America/Chicago:20251216T120000
DTSTAMP:20260426T034334
CREATED:20251126T164449Z
LAST-MODIFIED:20251126T164449Z
UID:3336-1765882800-1765886400@crueltyfreeyouandme.org
SUMMARY:Story Time in Austin-Irving
DESCRIPTION:Join us for our Compassionate Children’s Programming at the Austin-Irving: Chicago Public Library. Sessions will begin at 11am. Each hour session includes two stories\, an art project\, music\, and vegan snacks to bring home.We are so excited to bring our programming to Austin-Irving!
URL:https://crueltyfreeyouandme.org/event-schedule/story-time-in-austin-irving-20/
LOCATION:Austin-Irving: Chicago Library Branch\, 6100 W Irving Park Rd\,\, Chicago\, IL\, 60634\, United States
END:VEVENT
BEGIN:VEVENT
DTSTART;TZID=America/Chicago:20251215T110000
DTEND;TZID=America/Chicago:20251215T120000
DTSTAMP:20260426T034334
CREATED:20251126T164249Z
LAST-MODIFIED:20251126T164249Z
UID:3330-1765796400-1765800000@crueltyfreeyouandme.org
SUMMARY:Story Time in Bridgeport
DESCRIPTION:Join us for our Compassionate Children’s Programming at the Richard J. Daley Branch: Chicago Public Library. Sessions will begin at 11am. Each hour session includes two stories\, an art project\, music\, and vegan snacks to bring home. Located in their meeting room.
URL:https://crueltyfreeyouandme.org/event-schedule/story-time-in-bridgeport-108/
LOCATION:Bridgeport Daley Library\, 3400 S Halsted St\, Chicago\, IL\, 60608
END:VEVENT
BEGIN:VEVENT
DTSTART;TZID=America/Chicago:20251214T100000
DTEND;TZID=America/Chicago:20251214T120000
DTSTAMP:20260426T034334
CREATED:20251126T164034Z
LAST-MODIFIED:20251126T164034Z
UID:3322-1765706400-1765713600@crueltyfreeyouandme.org
SUMMARY:Kid's Corner at WPFM
DESCRIPTION:We are thrilled to be joining the Indoor Wicker Park Farmers Market this year! We will be running their Kid’s Corner from 10am to noon every time they bring their market indoors to the Royal Palms Shuffleboard. We will have four large booths where we will have coloring and crafts. We are also bringing our famous Scavenger Hunt! Each week features a new theme!! Join us at The Robey for our structured Story Time then walk down to Royal Palms for some more fun!
URL:https://crueltyfreeyouandme.org/event-schedule/kids-corner-at-wpfm-2/
LOCATION:Royal Palms\, 1750 N Milwaukee Ave\, Chicago\, IL
END:VEVENT
BEGIN:VEVENT
DTSTART;TZID=America/Chicago:20251214T093000
DTEND;TZID=America/Chicago:20251214T103000
DTSTAMP:20260426T034334
CREATED:20251126T163335Z
LAST-MODIFIED:20251126T163335Z
UID:3312-1765704600-1765708200@crueltyfreeyouandme.org
SUMMARY:Story Time at The Robey
DESCRIPTION:Join us for our Compassionate Children’s Programming at the The Robey every Sunday at 9:30am on the 2nd floor. We love being at this space during the off-season from WPFM. The theme is new each week and rotates between animals\, the environment\, and being kind to one another. Each session offers a community greeting\, two stories\, an art project\, and packaged vegan snacks. When we are indoors\, we also do bonus activities like our famous Scavenger Hunt! Sessions are donation-based. 100% of your donation goes back into programming in Wicker Park!
URL:https://crueltyfreeyouandme.org/event-schedule/story-time-at-the-robey-77/
LOCATION:The Robey\, 2018 W. North Ave.\, Chicago\, IL\, 60647
END:VEVENT
BEGIN:VEVENT
DTSTART;TZID=America/Chicago:20251211T110000
DTEND;TZID=America/Chicago:20251211T120000
DTSTAMP:20260426T034334
CREATED:20251126T164556Z
LAST-MODIFIED:20251126T164556Z
UID:3340-1765450800-1765454400@crueltyfreeyouandme.org
SUMMARY:Story Time in Bucktown-WP
DESCRIPTION:Join us for Story Time at the Bucktown-Wicker Park Library Branch at 11am on the 2nd floor!
URL:https://crueltyfreeyouandme.org/event-schedule/story-time-in-bucktown-wp-13/
LOCATION:Chicago Public Library Bucktown Wicker-Park Branch\, 1701 N. Milwaukee Ave\, Chicago\, IL\, 60647
END:VEVENT
BEGIN:VEVENT
DTSTART;TZID=America/Chicago:20251209T110000
DTEND;TZID=America/Chicago:20251209T120000
DTSTAMP:20260426T034334
CREATED:20251126T164423Z
LAST-MODIFIED:20251126T164423Z
UID:3334-1765278000-1765281600@crueltyfreeyouandme.org
SUMMARY:Story Time in Austin-Irving
DESCRIPTION:Join us for our Compassionate Children’s Programming at the Austin-Irving: Chicago Public Library. Sessions will begin at 11am. Each hour session includes two stories\, an art project\, music\, and vegan snacks to bring home.We are so excited to bring our programming to Austin-Irving!
URL:https://crueltyfreeyouandme.org/event-schedule/story-time-in-austin-irving-19/
LOCATION:Austin-Irving: Chicago Library Branch\, 6100 W Irving Park Rd\,\, Chicago\, IL\, 60634\, United States
END:VEVENT
BEGIN:VEVENT
DTSTART;TZID=America/Chicago:20251208T110000
DTEND;TZID=America/Chicago:20251208T120000
DTSTAMP:20260426T034334
CREATED:20251126T164226Z
LAST-MODIFIED:20251126T164226Z
UID:3328-1765191600-1765195200@crueltyfreeyouandme.org
SUMMARY:Story Time in Bridgeport
DESCRIPTION:Join us for our Compassionate Children’s Programming at the Richard J. Daley Branch: Chicago Public Library. Sessions will begin at 11am. Each hour session includes two stories\, an art project\, music\, and vegan snacks to bring home. Located in their meeting room.
URL:https://crueltyfreeyouandme.org/event-schedule/story-time-in-bridgeport-107/
LOCATION:Bridgeport Daley Library\, 3400 S Halsted St\, Chicago\, IL\, 60608
END:VEVENT
BEGIN:VEVENT
DTSTART;TZID=America/Chicago:20251207T100000
DTEND;TZID=America/Chicago:20251207T120000
DTSTAMP:20260426T034334
CREATED:20251126T163956Z
LAST-MODIFIED:20251126T163956Z
UID:3319-1765101600-1765108800@crueltyfreeyouandme.org
SUMMARY:Kid's Corner at WPFM
DESCRIPTION:We are thrilled to be joining the Indoor Wicker Park Farmers Market this year! We will be running their Kid’s Corner from 10am to noon every time they bring their market indoors to the Royal Palms Shuffleboard. We will have four large booths where we will have coloring and crafts. We are also bringing our famous Scavenger Hunt! Each week features a new theme!! Join us at The Robey for our structured Story Time then walk down to Royal Palms for some more fun!
URL:https://crueltyfreeyouandme.org/event-schedule/kids-corner-at-wpfm/
LOCATION:Royal Palms\, 1750 N Milwaukee Ave\, Chicago\, IL
END:VEVENT
BEGIN:VEVENT
DTSTART;TZID=America/Chicago:20251207T093000
DTEND;TZID=America/Chicago:20251207T103000
DTSTAMP:20260426T034334
CREATED:20251126T163312Z
LAST-MODIFIED:20251126T163312Z
UID:3310-1765099800-1765103400@crueltyfreeyouandme.org
SUMMARY:Story Time at The Robey
DESCRIPTION:Join us for our Compassionate Children’s Programming at the The Robey every Sunday at 9:30am on the 2nd floor. We love being at this space during the off-season from WPFM. The theme is new each week and rotates between animals\, the environment\, and being kind to one another. Each session offers a community greeting\, two stories\, an art project\, and packaged vegan snacks. When we are indoors\, we also do bonus activities like our famous Scavenger Hunt! Sessions are donation-based. 100% of your donation goes back into programming in Wicker Park!
URL:https://crueltyfreeyouandme.org/event-schedule/story-time-at-the-robey-76/
LOCATION:The Robey\, 2018 W. North Ave.\, Chicago\, IL\, 60647
END:VEVENT
BEGIN:VEVENT
DTSTART;TZID=America/Chicago:20251206T130000
DTEND;TZID=America/Chicago:20251206T173000
DTSTAMP:20260426T034334
CREATED:20251126T165054Z
LAST-MODIFIED:20251126T165148Z
UID:3344-1765026000-1765042200@crueltyfreeyouandme.org
SUMMARY:Holiday Toy Drive
DESCRIPTION:We will be joining the Winter Wonderland & Tree Lighting in Wicker Park on Saturday\, December 6th! Between 1pm and 5:30pm we will be hosting our 6th Annual Holiday Gift Drive. We are collecting new\, unwrapped toys for infants to 12 year olds. All donations benefit children in West Humboldt Park and will be delivered on Dec. 19th. We are supporting 303 children this holiday season. If able\, please help us spread the love!
URL:https://crueltyfreeyouandme.org/event-schedule/holiday-toy-drive/
LOCATION:Wicker Park
END:VEVENT
BEGIN:VEVENT
DTSTART;TZID=America/Chicago:20251204T110000
DTEND;TZID=America/Chicago:20251204T120000
DTSTAMP:20260426T034334
CREATED:20251126T164538Z
LAST-MODIFIED:20251126T164538Z
UID:3338-1764846000-1764849600@crueltyfreeyouandme.org
SUMMARY:Story Time in Bucktown-WP
DESCRIPTION:Join us for Story Time at the Bucktown-Wicker Park Library Branch at 11am on the 2nd floor!
URL:https://crueltyfreeyouandme.org/event-schedule/story-time-in-bucktown-wp-12/
LOCATION:Chicago Public Library Bucktown Wicker-Park Branch\, 1701 N. Milwaukee Ave\, Chicago\, IL\, 60647
END:VEVENT
BEGIN:VEVENT
DTSTART;TZID=America/Chicago:20251202T110000
DTEND;TZID=America/Chicago:20251202T120000
DTSTAMP:20260426T034334
CREATED:20251126T164405Z
LAST-MODIFIED:20251126T164405Z
UID:3332-1764673200-1764676800@crueltyfreeyouandme.org
SUMMARY:Story Time in Austin-Irving
DESCRIPTION:Join us for our Compassionate Children’s Programming at the Austin-Irving: Chicago Public Library. Sessions will begin at 11am. Each hour session includes two stories\, an art project\, music\, and vegan snacks to bring home.We are so excited to bring our programming to Austin-Irving!
URL:https://crueltyfreeyouandme.org/event-schedule/story-time-in-austin-irving-18/
LOCATION:Austin-Irving: Chicago Library Branch\, 6100 W Irving Park Rd\,\, Chicago\, IL\, 60634\, United States
END:VEVENT
BEGIN:VEVENT
DTSTART;TZID=America/Chicago:20251201T110000
DTEND;TZID=America/Chicago:20251201T120000
DTSTAMP:20260426T034334
CREATED:20251126T164155Z
LAST-MODIFIED:20251126T164155Z
UID:3326-1764586800-1764590400@crueltyfreeyouandme.org
SUMMARY:Story Time in Bridgeport
DESCRIPTION:Join us for our Compassionate Children’s Programming at the Richard J. Daley Branch: Chicago Public Library. Sessions will begin at 11am. Each hour session includes two stories\, an art project\, music\, and vegan snacks to bring home. Located in their meeting room.
URL:https://crueltyfreeyouandme.org/event-schedule/story-time-in-bridgeport-106/
LOCATION:Bridgeport Daley Library\, 3400 S Halsted St\, Chicago\, IL\, 60608
END:VEVENT
BEGIN:VEVENT
DTSTART;TZID=America/Chicago:20251130T093000
DTEND;TZID=America/Chicago:20251130T103000
DTSTAMP:20260426T034334
CREATED:20251103T144124Z
LAST-MODIFIED:20251103T144124Z
UID:3282-1764495000-1764498600@crueltyfreeyouandme.org
SUMMARY:Story Time at The Robey
DESCRIPTION:Join us for our Compassionate Children’s Programming at the The Robey every Sunday at 9:30am on the 2nd floor. We love being at this space during the off-season from WPFM. The theme is new each week and rotates between animals\, the environment\, and being kind to one another. Each session offers a community greeting\, two stories\, an art project\, and packaged vegan snacks. When we are indoors\, we also do bonus activities like our famous Scavenger Hunt! Sessions are donation-based. 100% of your donation goes back into programming in Wicker Park!
URL:https://crueltyfreeyouandme.org/event-schedule/story-time-at-the-robey-75/
LOCATION:The Robey\, 2018 W. North Ave.\, Chicago\, IL\, 60647
END:VEVENT
BEGIN:VEVENT
DTSTART;TZID=America/Chicago:20251125T110000
DTEND;TZID=America/Chicago:20251125T120000
DTSTAMP:20260426T034334
CREATED:20251103T145114Z
LAST-MODIFIED:20251103T145114Z
UID:3290-1764068400-1764072000@crueltyfreeyouandme.org
SUMMARY:Story Time in Austin-Irving
DESCRIPTION:Join us for our Compassionate Children’s Programming at the Austin-Irving: Chicago Public Library. Sessions will begin at 11am. Each hour session includes two stories\, an art project\, music\, and vegan snacks to bring home.We are so excited to bring our programming to Austin-Irving!
URL:https://crueltyfreeyouandme.org/event-schedule/story-time-in-austin-irving-17/
LOCATION:Austin-Irving: Chicago Library Branch\, 6100 W Irving Park Rd\,\, Chicago\, IL\, 60634\, United States
END:VEVENT
BEGIN:VEVENT
DTSTART;TZID=America/Chicago:20251124T110000
DTEND;TZID=America/Chicago:20251124T120000
DTSTAMP:20260426T034334
CREATED:20251103T143735Z
LAST-MODIFIED:20251103T143735Z
UID:3272-1763982000-1763985600@crueltyfreeyouandme.org
SUMMARY:Story Time in Bridgeport
DESCRIPTION:Join us for our Compassionate Children’s Programming at the Richard J. Daley Branch: Chicago Public Library. Sessions will begin at 11am. Each hour session includes two stories\, an art project\, music\, and vegan snacks to bring home. Located in their meeting room.
URL:https://crueltyfreeyouandme.org/event-schedule/story-time-in-bridgeport-105/
LOCATION:Bridgeport Daley Library\, 3400 S Halsted St\, Chicago\, IL\, 60608
END:VEVENT
BEGIN:VEVENT
DTSTART;TZID=America/Chicago:20251123T093000
DTEND;TZID=America/Chicago:20251123T103000
DTSTAMP:20260426T034334
CREATED:20251103T144101Z
LAST-MODIFIED:20251103T144101Z
UID:3280-1763890200-1763893800@crueltyfreeyouandme.org
SUMMARY:Story Time at The Robey
DESCRIPTION:Join us for our Compassionate Children’s Programming at the The Robey every Sunday at 9:30am on the 2nd floor. We love being at this space during the off-season from WPFM. The theme is new each week and rotates between animals\, the environment\, and being kind to one another. Each session offers a community greeting\, two stories\, an art project\, and packaged vegan snacks. When we are indoors\, we also do bonus activities like our famous Scavenger Hunt! Sessions are donation-based. 100% of your donation goes back into programming in Wicker Park!
URL:https://crueltyfreeyouandme.org/event-schedule/story-time-at-the-robey-74/
LOCATION:The Robey\, 2018 W. North Ave.\, Chicago\, IL\, 60647
END:VEVENT
BEGIN:VEVENT
DTSTART;TZID=America/Chicago:20251120T110000
DTEND;TZID=America/Chicago:20251120T120000
DTSTAMP:20260426T034334
CREATED:20251103T145521Z
LAST-MODIFIED:20251103T145521Z
UID:3296-1763636400-1763640000@crueltyfreeyouandme.org
SUMMARY:Story Time in Bucktown-WP
DESCRIPTION:Join us for Story Time at the Bucktown-Wicker Park Library Branch at 11am on the 2nd floor!
URL:https://crueltyfreeyouandme.org/event-schedule/story-time-in-bucktown-wp-11/
LOCATION:Chicago Public Library Bucktown Wicker-Park Branch\, 1701 N. Milwaukee Ave\, Chicago\, IL\, 60647
END:VEVENT
BEGIN:VEVENT
DTSTART;TZID=America/Chicago:20251118T110000
DTEND;TZID=America/Chicago:20251118T120000
DTSTAMP:20260426T034334
CREATED:20251103T145047Z
LAST-MODIFIED:20251103T145047Z
UID:3288-1763463600-1763467200@crueltyfreeyouandme.org
SUMMARY:Story Time in Austin-Irving
DESCRIPTION:Join us for our Compassionate Children’s Programming at the Austin-Irving: Chicago Public Library. Sessions will begin at 11am. Each hour session includes two stories\, an art project\, music\, and vegan snacks to bring home.We are so excited to bring our programming to Austin-Irving!
URL:https://crueltyfreeyouandme.org/event-schedule/story-time-in-austin-irving-16/
LOCATION:Austin-Irving: Chicago Library Branch\, 6100 W Irving Park Rd\,\, Chicago\, IL\, 60634\, United States
END:VEVENT
BEGIN:VEVENT
DTSTART;TZID=America/Chicago:20251117T110000
DTEND;TZID=America/Chicago:20251117T120000
DTSTAMP:20260426T034334
CREATED:20251103T143713Z
LAST-MODIFIED:20251103T143713Z
UID:3270-1763377200-1763380800@crueltyfreeyouandme.org
SUMMARY:Story Time in Bridgeport
DESCRIPTION:Join us for our Compassionate Children’s Programming at the Richard J. Daley Branch: Chicago Public Library. Sessions will begin at 11am. Each hour session includes two stories\, an art project\, music\, and vegan snacks to bring home. Located in their meeting room.
URL:https://crueltyfreeyouandme.org/event-schedule/story-time-in-bridgeport-104/
LOCATION:Bridgeport Daley Library\, 3400 S Halsted St\, Chicago\, IL\, 60608
END:VEVENT
BEGIN:VEVENT
DTSTART;TZID=America/Chicago:20251116T093000
DTEND;TZID=America/Chicago:20251116T103000
DTSTAMP:20260426T034334
CREATED:20251103T144040Z
LAST-MODIFIED:20251103T144040Z
UID:3278-1763285400-1763289000@crueltyfreeyouandme.org
SUMMARY:Story Time at The Robey
DESCRIPTION:Join us for our Compassionate Children’s Programming at the The Robey every Sunday at 9:30am on the 2nd floor. We love being at this space during the off-season from WPFM. The theme is new each week and rotates between animals\, the environment\, and being kind to one another. Each session offers a community greeting\, two stories\, an art project\, and packaged vegan snacks. When we are indoors\, we also do bonus activities like our famous Scavenger Hunt! Sessions are donation-based. 100% of your donation goes back into programming in Wicker Park!
URL:https://crueltyfreeyouandme.org/event-schedule/story-time-at-the-robey-73/
LOCATION:The Robey\, 2018 W. North Ave.\, Chicago\, IL\, 60647
END:VEVENT
BEGIN:VEVENT
DTSTART;TZID=America/Chicago:20251113T110000
DTEND;TZID=America/Chicago:20251113T120000
DTSTAMP:20260426T034334
CREATED:20251103T145451Z
LAST-MODIFIED:20251103T145451Z
UID:3294-1763031600-1763035200@crueltyfreeyouandme.org
SUMMARY:Story Time in Bucktown-WP
DESCRIPTION:Join us for Story Time at the Bucktown-Wicker Park Library Branch at 11am on the 2nd floor!
URL:https://crueltyfreeyouandme.org/event-schedule/story-time-in-bucktown-wp-10/
LOCATION:Chicago Public Library Bucktown Wicker-Park Branch\, 1701 N. Milwaukee Ave\, Chicago\, IL\, 60647
END:VEVENT
BEGIN:VEVENT
DTSTART;TZID=America/Chicago:20251111T110000
DTEND;TZID=America/Chicago:20251111T120000
DTSTAMP:20260426T034334
CREATED:20251103T145026Z
LAST-MODIFIED:20251103T145026Z
UID:3286-1762858800-1762862400@crueltyfreeyouandme.org
SUMMARY:Story Time in Austin-Irving
DESCRIPTION:Join us for our Compassionate Children’s Programming at the Austin-Irving: Chicago Public Library. Sessions will begin at 11am. Each hour session includes two stories\, an art project\, music\, and vegan snacks to bring home.We are so excited to bring our programming to Austin-Irving!
URL:https://crueltyfreeyouandme.org/event-schedule/story-time-in-austin-irving-15/
LOCATION:Austin-Irving: Chicago Library Branch\, 6100 W Irving Park Rd\,\, Chicago\, IL\, 60634\, United States
END:VEVENT
BEGIN:VEVENT
DTSTART;TZID=America/Chicago:20251110T110000
DTEND;TZID=America/Chicago:20251110T120000
DTSTAMP:20260426T034334
CREATED:20251103T143650Z
LAST-MODIFIED:20251103T143650Z
UID:3268-1762772400-1762776000@crueltyfreeyouandme.org
SUMMARY:Story Time in Bridgeport
DESCRIPTION:Join us for our Compassionate Children’s Programming at the Richard J. Daley Branch: Chicago Public Library. Sessions will begin at 11am. Each hour session includes two stories\, an art project\, music\, and vegan snacks to bring home. Located in their meeting room.
URL:https://crueltyfreeyouandme.org/event-schedule/story-time-in-bridgeport-103/
LOCATION:Bridgeport Daley Library\, 3400 S Halsted St\, Chicago\, IL\, 60608
END:VEVENT
BEGIN:VEVENT
DTSTART;TZID=America/Chicago:20251109T093000
DTEND;TZID=America/Chicago:20251109T103000
DTSTAMP:20260426T034334
CREATED:20251103T144020Z
LAST-MODIFIED:20251103T144020Z
UID:3276-1762680600-1762684200@crueltyfreeyouandme.org
SUMMARY:Story Time at The Robey
DESCRIPTION:Join us for our Compassionate Children’s Programming at the The Robey every Sunday at 9:30am on the 2nd floor. We love being at this space during the off-season from WPFM. The theme is new each week and rotates between animals\, the environment\, and being kind to one another. Each session offers a community greeting\, two stories\, an art project\, and packaged vegan snacks. When we are indoors\, we also do bonus activities like our famous Scavenger Hunt! Sessions are donation-based. 100% of your donation goes back into programming in Wicker Park!
URL:https://crueltyfreeyouandme.org/event-schedule/story-time-at-the-robey-72/
LOCATION:The Robey\, 2018 W. North Ave.\, Chicago\, IL\, 60647
END:VEVENT
BEGIN:VEVENT
DTSTART;TZID=America/Chicago:20251106T110000
DTEND;TZID=America/Chicago:20251106T120000
DTSTAMP:20260426T034334
CREATED:20251103T145414Z
LAST-MODIFIED:20251103T145414Z
UID:3292-1762426800-1762430400@crueltyfreeyouandme.org
SUMMARY:Story Time in Bucktown-WP
DESCRIPTION:Join us for Story Time at the Bucktown-Wicker Park Library Branch at 11am on the 2nd floor!
URL:https://crueltyfreeyouandme.org/event-schedule/story-time-in-bucktown-wp-9/
LOCATION:Chicago Public Library Bucktown Wicker-Park Branch\, 1701 N. Milwaukee Ave\, Chicago\, IL\, 60647
END:VEVENT
BEGIN:VEVENT
DTSTART;TZID=America/Chicago:20251105T150000
DTEND;TZID=America/Chicago:20251105T220000
DTSTAMP:20260426T034334
CREATED:20251015T144233Z
LAST-MODIFIED:20251030T214143Z
UID:3259-1762354800-1762380000@crueltyfreeyouandme.org
SUMMARY:Community Giveback Night
DESCRIPTION:Join us at Alter Brewing Co. for our Community Giveback Night! $1 from every adult beverage purchase will benefit CFY+M. We will have activities for kiddos. Ste Marten will be serving hot food and The Vulgar Vegan will be serving up dessert! We are also hosting a Plant-Based Food Drive during this event. See details below:
URL:https://crueltyfreeyouandme.org/event-schedule/community-giveback-night-4/
LOCATION:Alter Brewing Co.\, 2300 Wisconsin Ave UNIT 213\,\, Downers Grove\, IL\, 60515\, United States
END:VEVENT
BEGIN:VEVENT
DTSTART;TZID=America/Chicago:20251104T110000
DTEND;TZID=America/Chicago:20251104T120000
DTSTAMP:20260426T034334
CREATED:20251103T144947Z
LAST-MODIFIED:20251103T144947Z
UID:3284-1762254000-1762257600@crueltyfreeyouandme.org
SUMMARY:Story Time in Austin-Irving!
DESCRIPTION:Join us for our Compassionate Children’s Programming at the Austin-Irving: Chicago Public Library. Sessions will begin at 11am. Each hour session includes two stories\, an art project\, music\, and vegan snacks to bring home.We are so excited to bring our programming to Austin-Irving!
URL:https://crueltyfreeyouandme.org/event-schedule/story-time-in-austin-irving-14/
LOCATION:Austin-Irving: Chicago Library Branch\, 6100 W Irving Park Rd\,\, Chicago\, IL\, 60634\, United States
END:VEVENT
BEGIN:VEVENT
DTSTART;TZID=America/Chicago:20251103T110000
DTEND;TZID=America/Chicago:20251103T120000
DTSTAMP:20260426T034334
CREATED:20251103T143627Z
LAST-MODIFIED:20251103T143627Z
UID:3266-1762167600-1762171200@crueltyfreeyouandme.org
SUMMARY:Story Time in Bridgeport
DESCRIPTION:Join us for our Compassionate Children’s Programming at the Richard J. Daley Branch: Chicago Public Library. Sessions will begin at 11am. Each hour session includes two stories\, an art project\, music\, and vegan snacks to bring home. Located in their meeting room.
URL:https://crueltyfreeyouandme.org/event-schedule/story-time-in-bridgeport-102/
LOCATION:Bridgeport Daley Library\, 3400 S Halsted St\, Chicago\, IL\, 60608
END:VEVENT
BEGIN:VEVENT
DTSTART;TZID=America/Chicago:20251103T093000
DTEND;TZID=America/Chicago:20251103T103000
DTSTAMP:20260426T034334
CREATED:20251103T143956Z
LAST-MODIFIED:20251103T143956Z
UID:3274-1762162200-1762165800@crueltyfreeyouandme.org
SUMMARY:Story Time at The Robey
DESCRIPTION:Join us for our Compassionate Children’s Programming at the The Robey every Sunday at 9:30am on the 2nd floor. We love being at this space during the off-season from WPFM. The theme is new each week and rotates between animals\, the environment\, and being kind to one another. Each session offers a community greeting\, two stories\, an art project\, and packaged vegan snacks. When we are indoors\, we also do bonus activities like our famous Scavenger Hunt! Sessions are donation-based. 100% of your donation goes back into programming in Wicker Park!
URL:https://crueltyfreeyouandme.org/event-schedule/story-time-at-the-robey-71/
LOCATION:The Robey\, 2018 W. North Ave.\, Chicago\, IL\, 60647
END:VEVENT
END:VCALENDAR