BEGIN:VCALENDAR
VERSION:2.0
PRODID:-//Cruelty Free You + Me - ECPv6.15.20//NONSGML v1.0//EN
CALSCALE:GREGORIAN
METHOD:PUBLISH
X-ORIGINAL-URL:https://crueltyfreeyouandme.org
X-WR-CALDESC:Events for Cruelty Free You + Me
REFRESH-INTERVAL;VALUE=DURATION:PT1H
X-Robots-Tag:noindex
X-PUBLISHED-TTL:PT1H
BEGIN:VTIMEZONE
TZID:America/Chicago
BEGIN:DAYLIGHT
TZOFFSETFROM:-0600
TZOFFSETTO:-0500
TZNAME:CDT
DTSTART:20250309T080000
END:DAYLIGHT
BEGIN:STANDARD
TZOFFSETFROM:-0500
TZOFFSETTO:-0600
TZNAME:CST
DTSTART:20251102T070000
END:STANDARD
BEGIN:DAYLIGHT
TZOFFSETFROM:-0600
TZOFFSETTO:-0500
TZNAME:CDT
DTSTART:20260308T080000
END:DAYLIGHT
BEGIN:STANDARD
TZOFFSETFROM:-0500
TZOFFSETTO:-0600
TZNAME:CST
DTSTART:20261101T070000
END:STANDARD
BEGIN:DAYLIGHT
TZOFFSETFROM:-0600
TZOFFSETTO:-0500
TZNAME:CDT
DTSTART:20270314T080000
END:DAYLIGHT
BEGIN:STANDARD
TZOFFSETFROM:-0500
TZOFFSETTO:-0600
TZNAME:CST
DTSTART:20271107T070000
END:STANDARD
END:VTIMEZONE
BEGIN:VEVENT
DTSTART;TZID=America/Chicago:20260426T093000
DTEND;TZID=America/Chicago:20260426T110000
DTSTAMP:20260425T154604
CREATED:20260330T150347Z
LAST-MODIFIED:20260330T150347Z
UID:3519-1777195800-1777201200@crueltyfreeyouandme.org
SUMMARY:Story Time at The Robey
DESCRIPTION:Join us for our Compassionate Children’s Programming at the The Robey every Sunday at 9:30am on the 2nd floor. We love being at this space during the off-season from WPFM. The theme is new each week and rotates between animals\, the environment\, and being kind to one another. Each session offers a community greeting\, two stories\, an art project\, and packaged vegan snacks. When we are indoors\, we also do bonus activities like our famous Scavenger Hunt! Sessions are donation-based. 100% of your donation goes back into programming in Wicker Park!
URL:https://crueltyfreeyouandme.org/event-schedule/story-time-at-the-robey-95/
LOCATION:The Robey\, 2018 W. North Ave.\, Chicago\, IL\, 60647
END:VEVENT
BEGIN:VEVENT
DTSTART;TZID=America/Chicago:20260427T110000
DTEND;TZID=America/Chicago:20260427T120000
DTSTAMP:20260425T154604
CREATED:20260330T145935Z
LAST-MODIFIED:20260330T145935Z
UID:3505-1777287600-1777291200@crueltyfreeyouandme.org
SUMMARY:Story Time in Bridgeport
DESCRIPTION:Join us for our Compassionate Children’s Programming at the Richard J. Daley Branch: Chicago Public Library. Sessions will begin at 11am. Each hour session includes two stories\, an art project\, music\, and vegan snacks to bring home. Located in their meeting room.
URL:https://crueltyfreeyouandme.org/event-schedule/story-time-in-bridgeport-121/
LOCATION:Bridgeport Daley Library\, 3400 S Halsted St\, Chicago\, IL\, 60608
END:VEVENT
END:VCALENDAR